BEGIN:VCALENDAR
VERSION:2.0
PRODID:-//Kendall Cares - ECPv6.15.20//NONSGML v1.0//EN
CALSCALE:GREGORIAN
METHOD:PUBLISH
X-WR-CALNAME:Kendall Cares
X-ORIGINAL-URL:https://www.kendallgivesback.com
X-WR-CALDESC:Events for Kendall Cares
REFRESH-INTERVAL;VALUE=DURATION:PT1H
X-Robots-Tag:noindex
X-PUBLISHED-TTL:PT1H
BEGIN:VTIMEZONE
TZID:America/Los_Angeles
BEGIN:DAYLIGHT
TZOFFSETFROM:-0800
TZOFFSETTO:-0700
TZNAME:PDT
DTSTART:20250309T100000
END:DAYLIGHT
BEGIN:STANDARD
TZOFFSETFROM:-0700
TZOFFSETTO:-0800
TZNAME:PST
DTSTART:20251102T090000
END:STANDARD
BEGIN:DAYLIGHT
TZOFFSETFROM:-0800
TZOFFSETTO:-0700
TZNAME:PDT
DTSTART:20260308T100000
END:DAYLIGHT
BEGIN:STANDARD
TZOFFSETFROM:-0700
TZOFFSETTO:-0800
TZNAME:PST
DTSTART:20261101T090000
END:STANDARD
BEGIN:DAYLIGHT
TZOFFSETFROM:-0800
TZOFFSETTO:-0700
TZNAME:PDT
DTSTART:20270314T100000
END:DAYLIGHT
BEGIN:STANDARD
TZOFFSETFROM:-0700
TZOFFSETTO:-0800
TZNAME:PST
DTSTART:20271107T090000
END:STANDARD
END:VTIMEZONE
BEGIN:VTIMEZONE
TZID:America/Boise
BEGIN:DAYLIGHT
TZOFFSETFROM:-0700
TZOFFSETTO:-0600
TZNAME:MDT
DTSTART:20250309T090000
END:DAYLIGHT
BEGIN:STANDARD
TZOFFSETFROM:-0600
TZOFFSETTO:-0700
TZNAME:MST
DTSTART:20251102T080000
END:STANDARD
BEGIN:DAYLIGHT
TZOFFSETFROM:-0700
TZOFFSETTO:-0600
TZNAME:MDT
DTSTART:20260308T090000
END:DAYLIGHT
BEGIN:STANDARD
TZOFFSETFROM:-0600
TZOFFSETTO:-0700
TZNAME:MST
DTSTART:20261101T080000
END:STANDARD
BEGIN:DAYLIGHT
TZOFFSETFROM:-0700
TZOFFSETTO:-0600
TZNAME:MDT
DTSTART:20270314T090000
END:DAYLIGHT
BEGIN:STANDARD
TZOFFSETFROM:-0600
TZOFFSETTO:-0700
TZNAME:MST
DTSTART:20271107T080000
END:STANDARD
END:VTIMEZONE
BEGIN:VEVENT
DTSTART;TZID=America/Los_Angeles:20260425T090000
DTEND;TZID=America/Los_Angeles:20260425T113000
DTSTAMP:20260425T213818
CREATED:20260406T220042Z
LAST-MODIFIED:20260406T220359Z
UID:10000339-1777107600-1777116600@www.kendallgivesback.com
SUMMARY:Join Us for Cars & Coffee + Toyota Parts & Accessories Sale!
DESCRIPTION:Brewed Coffee\, Beautiful Cars\, and Big Toyota Savings!\nYou’re invited to a morning built for our Central Oregon\, car lovin’ community! \nJoin us on April 25th from 9:00–11:30am at Kendall Toyota of Bend (61430 S Hwy 97) for Cars & Coffee AND a Toyota Parts & Accessories sale!  \nBring your vehicle and your crew—all cars are welcome\, from overland builds and lifted rigs to classics\, imports\, and everything in between. Whether you’re showing off your ride or just coming to check out the lineup\, there’s something for everyone. \nWe’ll have fresh brewed coffee from Travelin’ Tom’s Coffee Truck to keep you fueled while you browse and connect. Plus\, don’t miss our Toyota Parts & Accessories Sale\, featuring top brands like ARB\, Ironman 4×4\, Rigid Lighting\, ICON\, Rough Country\, and Yakima—perfect for upgrading your next adventure. \nCome hang out\, talk cars\, and kick off your weekend with us—we’ll see you there!
URL:https://www.kendallgivesback.com/event/join-us-for-cars-coffee-toyota-parts-accessories-sale/
LOCATION:Kendall Toyota of Bend\, 61430 S Hwy 97\, Bend\, OR\, United States
CATEGORIES:Home,Oregon – Bend
ATTACH;FMTTYPE=image/jpeg:https://assets.kendallgivesback.com/wp-content/uploads/2026/04/Cars-Coffee-Banner-1.jpg
END:VEVENT
BEGIN:VEVENT
DTSTART;TZID=America/Boise:20260425T090000
DTEND;TZID=America/Boise:20260425T173000
DTSTAMP:20260425T213818
CREATED:20260327T020814Z
LAST-MODIFIED:20260327T020814Z
UID:10000328-1777107600-1777138200@www.kendallgivesback.com
SUMMARY:Fueling the Next Generation of Drivers
DESCRIPTION:Kendall Auto Group is proud to sponsor a Firebird tradition that’s been igniting passion since 1976\, the Idaho CDL Training Spring High School\, Alumni & Street Legal Series is back on Saturday\, April 25\, 2026! \nThis event is more than just race day\, it’s about getting young drivers behind the wheel\, hands on the track\, and excited about the world of automotive. From High School racers to Alumni and Junior classes\, it’s where future technicians\, racers\, and enthusiasts get their start. \nWhether you’re racing\, cheering\, or just soaking it all in—this is where the next generation finds their drive. \n🏁 Event Highlights:• High School & Alumni racing• Junior Dragster & Junior Street• Street Truck\, Street Bike & Factory Muscle• Outlaw Street + Test ‘n Tune runs• A full day of adrenaline and community \n🕘 Schedule:Gates Open: 9:00 AMTime Trials: 10:30 AM – 1:30 PMEliminations: 2:00 PMWrap-Up: 5:30 PM \n🎟️ Admission:Adults: $15 online ($18 day-of)Kids: $5 | 5 & under: FREEParking: FREE \nAt Kendall\, we believe the future of the automotive world starts right here\, in moments like these. Come out\, support local youth\, and experience the thrill at Firebird!
URL:https://www.kendallgivesback.com/event/fueling-the-next-generation-of-drivers/
LOCATION:Firebird Raceway\, 8551 ID-16\, Eagle\, ID\, 83616\, United States
CATEGORIES:Home,Idaho,Idaho – Treasure Valley
ATTACH;FMTTYPE=image/jpeg:https://assets.kendallgivesback.com/wp-content/uploads/2026/03/High-School-Races-April-26.jpg
END:VEVENT
END:VCALENDAR