BEGIN:VCALENDAR
VERSION:2.0
PRODID:-//Kendall Cares - ECPv6.15.20//NONSGML v1.0//EN
CALSCALE:GREGORIAN
METHOD:PUBLISH
X-WR-CALNAME:Kendall Cares
X-ORIGINAL-URL:https://www.kendallgivesback.com
X-WR-CALDESC:Events for Kendall Cares
REFRESH-INTERVAL;VALUE=DURATION:PT1H
X-Robots-Tag:noindex
X-PUBLISHED-TTL:PT1H
BEGIN:VTIMEZONE
TZID:America/Los_Angeles
BEGIN:DAYLIGHT
TZOFFSETFROM:-0800
TZOFFSETTO:-0700
TZNAME:PDT
DTSTART:20230312T100000
END:DAYLIGHT
BEGIN:STANDARD
TZOFFSETFROM:-0700
TZOFFSETTO:-0800
TZNAME:PST
DTSTART:20231105T090000
END:STANDARD
BEGIN:DAYLIGHT
TZOFFSETFROM:-0800
TZOFFSETTO:-0700
TZNAME:PDT
DTSTART:20240310T100000
END:DAYLIGHT
BEGIN:STANDARD
TZOFFSETFROM:-0700
TZOFFSETTO:-0800
TZNAME:PST
DTSTART:20241103T090000
END:STANDARD
BEGIN:DAYLIGHT
TZOFFSETFROM:-0800
TZOFFSETTO:-0700
TZNAME:PDT
DTSTART:20250309T100000
END:DAYLIGHT
BEGIN:STANDARD
TZOFFSETFROM:-0700
TZOFFSETTO:-0800
TZNAME:PST
DTSTART:20251102T090000
END:STANDARD
END:VTIMEZONE
BEGIN:VEVENT
DTSTART;VALUE=DATE:20240501
DTEND;VALUE=DATE:20240601
DTSTAMP:20260420T074235
CREATED:20240426T124155Z
LAST-MODIFIED:20240520T202225Z
UID:10000122-1714521600-1717199999@www.kendallgivesback.com
SUMMARY:Kendall Auto Alaska\, Slumberkins\, and Providence Alaska's Children's Hospital
DESCRIPTION:Providence Alaska’s Children’s Hospital annually serves over 900 children facing traumatic circumstances\, often requiring extended stays far from home. These children\, hailing from diverse backgrounds across Alaska and local communities\, endure prolonged hospitalization without the comforting presence of family members due to financial constraints\, including expenses for lodging and meals\, particularly if siblings are involved. Consequently\, these young patients rely heavily on the compassionate care provided by the child life team\, a dedicated group of individuals tasked with supporting them through this emotional time.  \nIn the upcoming month of May\, we are joining forces with Slumberkins\, a children’s emotional wellness company\, to address this pressing issue\, aiming to make a tangible difference in the lives of these 900 children. Our collaborative efforts have the potential to significantly impact their emotional well-being during what may be the most distressing period they have ever faced. Founded by a family therapist and special education teacher\, Slumberkins was created to bring early emotional learning tools into all the places where children learn\, empowering them to be caring\, confident\, and resilient. https://slumberkins.com/ \nThe urgent need for assistance is particularly evident in the Pediatric Intensive Care Unit (PICU) and Neonatal Intensive Care Unit (NICU) at Providence Children’s Hospital. The hospital’s child life team has reached out for support in maintaining their emotional support friend program\, which extends beyond the NICU and PICU to encompass the Pediatric Cancer Center and children recovering from traumatic injuries. Unfortunately\, they have lost their previous donor\, leaving many children facing weeks of hospitalization without the comforting presence of an emotional support companion. \nAs a child\, I spent a great deal of time at Shriners Children’s Hospital. Over 30 years later I remember those days more than most as an adult. We have an opportunity here to change their experience and give them a snuggly new friend as well as a book that they can hold and love in a time of need. The only thing that leaves a bigger impact than childhood trauma is being the parent of the child. In those moments we have an opportunity to make a difference. To see your child smile and hold a new friend in their time of need as a parent myself I can say that it would forever be etched in my mind. \n  \nPlease join us in supporting these brave little faces. Visit any Kendall Auto Alaska dealership for more information.
URL:https://www.kendallgivesback.com/event/kendall-auto-alaska-slumberkins-and-providence-alaskas-childrens-hospital/
LOCATION:Kendall Auto Alaska Dealerships\, AK\, United States
CATEGORIES:Alaska,Alaska - Kenai Peninsula,Alaska – Anchorage,Alaska – Fairbanks,Alaska – Wasilla,Home
ATTACH;FMTTYPE=image/jpeg:https://assets.kendallgivesback.com/wp-content/uploads/2024/04/Untitled-design-5.jpg
END:VEVENT
BEGIN:VEVENT
DTSTART;TZID=America/Los_Angeles:20240504T110000
DTEND;TZID=America/Los_Angeles:20240504T150000
DTSTAMP:20260420T074235
CREATED:20240426T131444Z
LAST-MODIFIED:20240426T131444Z
UID:10000124-1714820400-1714834800@www.kendallgivesback.com
SUMMARY:UAA Diesel Expo
DESCRIPTION:UAA’s Auto and Diesel Technology Program will be hosting the 2nd annual UAA Auto Diesel EXPO on May 4 from 10 a.m.-3 p.m. Campus Drive will be closed for this event. The event will have Kendall Auto Alaska and multiple industry sponsors showcase their hottest products and technical opportunities. \nEvent Details\nEvent location – 2460 W Campus Dr. in and around the Automotive and Diesel Technology Building\nEvent date – May 4\, 2024\nEvent start time – 11 a.m.\nEvent end time – 3 p.m.
URL:https://www.kendallgivesback.com/event/uaa-diesel-expo/
CATEGORIES:Alaska,Alaska - Kenai Peninsula,Alaska – Anchorage,Alaska – Fairbanks,Alaska – Wasilla,Home
ATTACH;FMTTYPE=image/jpeg:https://assets.kendallgivesback.com/wp-content/uploads/2024/04/Diesel-Expo-May-4th-from-10-4-pm.jpg
END:VEVENT
BEGIN:VEVENT
DTSTART;TZID=America/Los_Angeles:20240510T120000
DTEND;TZID=America/Los_Angeles:20240510T160000
DTSTAMP:20260420T074235
CREATED:20240426T124935Z
LAST-MODIFIED:20240426T124935Z
UID:10000123-1715342400-1715356800@www.kendallgivesback.com
SUMMARY:Kendall Ford Wasilla 3rd Annual Pet Adoption Day!
DESCRIPTION:AK Cat and Dog is a local animal rescue group dedicated to saving animals in Alaska. The organization uses an entirely foster-based operation where animals aren’t held in shelters\, but integrated into daily family life within screened foster homes. This approach allows AK Cat and Dog to evaluate\, socialize\, and give personal care to every dog or cat that is taken in. To support the organization’s efforts\, Kendall Ford of Wasilla will be hosting a fur baby adoption day on May 10th from 12-4 pm. Click here to learn more about AK Cat and Dog Rescue and how you can support the organization today – https://www.akcatanddog.com/. \n  \nNot ready to adopt? Here is how you can help! \nAK Cat and Dog is in need of the following items\, \nKirkland puppy food \nPuppy pads \nKitten/Cat food -wet or dry \nSmall/Medium collars \nRound pens \n  \nJoin us in helping these furry little friends find a new forever home!
URL:https://www.kendallgivesback.com/event/kendall-ford-wasilla-3rd-annual-pet-adoption-day/
CATEGORIES:Alaska,Alaska – Wasilla,Home
ATTACH;FMTTYPE=image/jpeg:https://assets.kendallgivesback.com/wp-content/uploads/2024/04/Yellow-and-Grey-Adopt-A-Pet-Instagram-Story-.jpg
END:VEVENT
END:VCALENDAR