BEGIN:VCALENDAR
VERSION:2.0
PRODID:-//Kendall Cares - ECPv6.15.20//NONSGML v1.0//EN
CALSCALE:GREGORIAN
METHOD:PUBLISH
X-WR-CALNAME:Kendall Cares
X-ORIGINAL-URL:https://www.kendallgivesback.com
X-WR-CALDESC:Events for Kendall Cares
REFRESH-INTERVAL;VALUE=DURATION:PT1H
X-Robots-Tag:noindex
X-PUBLISHED-TTL:PT1H
BEGIN:VTIMEZONE
TZID:America/Los_Angeles
BEGIN:DAYLIGHT
TZOFFSETFROM:-0800
TZOFFSETTO:-0700
TZNAME:PDT
DTSTART:20230312T100000
END:DAYLIGHT
BEGIN:STANDARD
TZOFFSETFROM:-0700
TZOFFSETTO:-0800
TZNAME:PST
DTSTART:20231105T090000
END:STANDARD
BEGIN:DAYLIGHT
TZOFFSETFROM:-0800
TZOFFSETTO:-0700
TZNAME:PDT
DTSTART:20240310T100000
END:DAYLIGHT
BEGIN:STANDARD
TZOFFSETFROM:-0700
TZOFFSETTO:-0800
TZNAME:PST
DTSTART:20241103T090000
END:STANDARD
BEGIN:DAYLIGHT
TZOFFSETFROM:-0800
TZOFFSETTO:-0700
TZNAME:PDT
DTSTART:20250309T100000
END:DAYLIGHT
BEGIN:STANDARD
TZOFFSETFROM:-0700
TZOFFSETTO:-0800
TZNAME:PST
DTSTART:20251102T090000
END:STANDARD
END:VTIMEZONE
BEGIN:VTIMEZONE
TZID:America/Anchorage
BEGIN:DAYLIGHT
TZOFFSETFROM:-0900
TZOFFSETTO:-0800
TZNAME:AKDT
DTSTART:20230312T110000
END:DAYLIGHT
BEGIN:STANDARD
TZOFFSETFROM:-0800
TZOFFSETTO:-0900
TZNAME:AKST
DTSTART:20231105T100000
END:STANDARD
BEGIN:DAYLIGHT
TZOFFSETFROM:-0900
TZOFFSETTO:-0800
TZNAME:AKDT
DTSTART:20240310T110000
END:DAYLIGHT
BEGIN:STANDARD
TZOFFSETFROM:-0800
TZOFFSETTO:-0900
TZNAME:AKST
DTSTART:20241103T100000
END:STANDARD
BEGIN:DAYLIGHT
TZOFFSETFROM:-0900
TZOFFSETTO:-0800
TZNAME:AKDT
DTSTART:20250309T110000
END:DAYLIGHT
BEGIN:STANDARD
TZOFFSETFROM:-0800
TZOFFSETTO:-0900
TZNAME:AKST
DTSTART:20251102T100000
END:STANDARD
END:VTIMEZONE
BEGIN:VEVENT
DTSTART;VALUE=DATE:20241214
DTEND;VALUE=DATE:20241215
DTSTAMP:20260419T191905
CREATED:20241107T015336Z
LAST-MODIFIED:20241107T015336Z
UID:10000162-1734134400-1734220799@www.kendallgivesback.com
SUMMARY:Freezin For A Reason With Kendall Auto Alaska
DESCRIPTION:Get ready to dive into the icy depths with Kendall Auto Alaska and Special Olympics Alaska for the Polar Plunge! \n\n\nOn December 14th\, we’ll be chillin’ for a thrill—plunging into Goose Lake to raise cash for a cause that warms the heart. Whether you’re a pro at icy dips or just dipping your toes for the first time\, the buzz around this event is electric\, even if the temps are frigid! Each daring diver will not only get a splash of icy excitement but also a cozy glow from helping athletes with intellectual disabilities. \n\n\nCheerleaders and hot cocoa lovers are more than welcome! Join the fun\, soak up the tunes\, and bask in the festive vibes that scream holiday spirit. \n\n\nWant to take the plunge? Just hop online to register and start wrangling those pledges from friends\, family\, and your office pals. Every dollar you raise goes straight to supporting our incredible athletes and their dreams. \n\n\nSo bundle up\, unleash your adventurous spirit\, and bring your big heart for a day packed with fun\, friendship\, and some seriously chilly charity!
URL:https://www.kendallgivesback.com/event/freezin-for-a-reason-with-kendall-auto-alaska/
CATEGORIES:Alaska,Alaska - Kenai Peninsula,Alaska – Anchorage,Alaska – Fairbanks,Alaska – Wasilla,Home
ATTACH;FMTTYPE=image/jpeg:https://assets.kendallgivesback.com/wp-content/uploads/2024/11/12-days-1.jpg
END:VEVENT
BEGIN:VEVENT
DTSTART;TZID=America/Anchorage:20241217T140000
DTEND;TZID=America/Anchorage:20241217T180000
DTSTAMP:20260419T191905
CREATED:20241207T225333Z
LAST-MODIFIED:20241207T225333Z
UID:10000169-1734444000-1734458400@www.kendallgivesback.com
SUMMARY:Santa Claus is coming to Kendall Ford of Wasilla!
DESCRIPTION:Santa is on his way\, Santa is on his way\, Santa is on his way! \n\n\nCome and celebrate with us on December 17th from 2-6 pm. Photo Emporium will be there to capture all the magical moments as we offer pictures to our community and support Operation Santa Claus with your help. \n\n\nThe photos are complimentary\, but for every family that stops by to take a picture to cherish this special moment\, we will donate $20\, up to $3000\, to Operation Santa! They have exciting plans for these funds to purchase books for children and encourage literacy. \n\n\nJoin us in giving back while having one heck of a holly jolly good time together!
URL:https://www.kendallgivesback.com/event/santa-claus-is-coming-to-kendall-ford-of-wasilla/
CATEGORIES:Alaska,Alaska – Wasilla,Home
ATTACH;FMTTYPE=image/jpeg:https://assets.kendallgivesback.com/wp-content/uploads/2024/12/Blue-White-Christmas-Party-Flyer.jpg
END:VEVENT
BEGIN:VEVENT
DTSTART;VALUE=DATE:20241220
DTEND;VALUE=DATE:20241221
DTSTAMP:20260419T191905
CREATED:20241107T013901Z
LAST-MODIFIED:20241107T013901Z
UID:10000161-1734652800-1734739199@www.kendallgivesback.com
SUMMARY:Kendall Auto Alaska & Anchorage Cops 4 Community
DESCRIPTION:Spread Holiday Cheer with Kendall Auto Alaska and Anchorage Cops 4 Community! \n\n\n🎄 Join Us in Making Spirits Bright! 🎄 \n\n\nKendall Auto Alaska is thrilled to announce a heartwarming collaboration with Anchorage Cops 4 Community. On December 20th\, we will be spreading holiday cheer by taking nearly 90 children from local shelters on a magical shopping spree for holiday gifts! Each child will have the opportunity to shop with their very own police officer or firefighter chaperone\, creating unforgettable memories and sparking joy during this festive season. \n\n\nBe a Part of Something Special \n\n\nThis incredible event is part of AP4C’s ongoing mission to bring happiness and hope to children in need. We are deeply grateful for the dedication and compassion of our volunteers who are making this event possible. Together\, we can ensure these children have a holiday to remember! \n\n\nHow You Can Help \n\n\nVolunteer Your Time: Join us as a volunteer\nSpread the Word: Share this event with friends and family to raise awareness and support.\nDonate: Contributions of any size can make a big difference in creating a magical holiday experience for these kids.\n\nhttps://www.anchoragecopsforcommunity.org\n\nLet’s come together as a community to make this holiday season truly special. Your support can light up a child’s world! \n\n\n✨ Happy Holidays from Kendall Auto Alaska and Anchorage Cops 4 Community! ✨ \n\n\nFor more information or to get involved\, please contact us today. Let’s make this a holiday to cherish!
URL:https://www.kendallgivesback.com/event/kendall-auto-alaska-anchorage-cops-4-community/
CATEGORIES:Alaska,Alaska - Kenai Peninsula,Alaska – Anchorage,Alaska – Fairbanks,Alaska – Wasilla,Home
ATTACH;FMTTYPE=image/jpeg:https://assets.kendallgivesback.com/wp-content/uploads/2024/11/12-days.jpg
END:VEVENT
END:VCALENDAR