BEGIN:VCALENDAR
VERSION:2.0
PRODID:-//Kendall Cares - ECPv6.15.20//NONSGML v1.0//EN
CALSCALE:GREGORIAN
METHOD:PUBLISH
X-ORIGINAL-URL:https://www.kendallgivesback.com
X-WR-CALDESC:Events for Kendall Cares
REFRESH-INTERVAL;VALUE=DURATION:PT1H
X-Robots-Tag:noindex
X-PUBLISHED-TTL:PT1H
BEGIN:VTIMEZONE
TZID:America/Los_Angeles
BEGIN:DAYLIGHT
TZOFFSETFROM:-0800
TZOFFSETTO:-0700
TZNAME:PDT
DTSTART:20230312T100000
END:DAYLIGHT
BEGIN:STANDARD
TZOFFSETFROM:-0700
TZOFFSETTO:-0800
TZNAME:PST
DTSTART:20231105T090000
END:STANDARD
BEGIN:DAYLIGHT
TZOFFSETFROM:-0800
TZOFFSETTO:-0700
TZNAME:PDT
DTSTART:20240310T100000
END:DAYLIGHT
BEGIN:STANDARD
TZOFFSETFROM:-0700
TZOFFSETTO:-0800
TZNAME:PST
DTSTART:20241103T090000
END:STANDARD
BEGIN:DAYLIGHT
TZOFFSETFROM:-0800
TZOFFSETTO:-0700
TZNAME:PDT
DTSTART:20250309T100000
END:DAYLIGHT
BEGIN:STANDARD
TZOFFSETFROM:-0700
TZOFFSETTO:-0800
TZNAME:PST
DTSTART:20251102T090000
END:STANDARD
END:VTIMEZONE
BEGIN:VEVENT
DTSTART;VALUE=DATE:20240404
DTEND;VALUE=DATE:20240406
DTSTAMP:20260422T013256
CREATED:20240322T230907Z
LAST-MODIFIED:20240322T232608Z
UID:10000114-1712188800-1712361599@www.kendallgivesback.com
SUMMARY:15th Annual St. Jude's Radiothon
DESCRIPTION:On April 4th and 5th\, 2024\, Q 100 the Point is turning the radio station over to the kids with the 15th Annual Country Cares For St. Jude Kids Radiothon\, brought to you by Kendall Auto of the Kenai Peninsula. For over 40 years\, Country Music Has Supported St. Jude Children’s Research Hospital. \nWhat is St. Jude? Located in Memphis\, Tennessee\, St. Jude is one of the world’s premier centers for research and treatment of catastrophic diseases in children\, primarily pediatric cancers. St. Jude treats over 8\,600 children annually across the United States and worldwide. St. Jude covers all costs not covered by insurance for medical treatment rendered at St. Jude Children’s Research Hospital. Families without insurance are never asked to pay. \nThat’s where we come in! On April 4th and 5th Q 100 the Point is turning the radio station over to the kids with the 15th Annual Country Cares For St. Jude Kids Radiothon. We’ll be LIVE for two days\, raising money for the kids at St. Jude\, and you can help—by becoming a Partner in Hope. Partners In Hope is a special community of monthly supporters who are committed to saving children with cancer and other life-threatening diseases by pledging $19 a month. \nWe’re looking for individuals and groups to join us in the fight to beat childhood cancer\, by volunteering a couple hours of your time in our phone bank. If you can help\, call the front office at 907-283-8700\, that’s 907-283-8700. The Country Cares for St. Jude Kids Radiothon\, April 4th and 5th\, on Q 100 the Point\, 100.1FM. To sign up online click here. \nClick Here to donate online and keep listening for more details\, and stay tuned for the Country Cares For St. Jude Kids Radiothon exclusively on the station that cares for kids\, Your kind of country Q 100 the Point! \nWith your help in 2023\, we raised $50\,863.00 for the Kids at St. Jude.
URL:https://www.kendallgivesback.com/event/15th-annual-st-judes-radiothon/
CATEGORIES:Alaska,Alaska - Kenai Peninsula,Home
ATTACH;FMTTYPE=image/jpeg:https://assets.kendallgivesback.com/wp-content/uploads/2024/03/15th-annual-Cuntry-Cares-for-St.-Judes-Kids.jpg
END:VEVENT
BEGIN:VEVENT
DTSTART;VALUE=DATE:20240414
DTEND;VALUE=DATE:20240421
DTSTAMP:20260422T013256
CREATED:20240411T124547Z
LAST-MODIFIED:20240411T125245Z
UID:10000120-1713052800-1713657599@www.kendallgivesback.com
SUMMARY:Challenge Alaska Spring Fling
DESCRIPTION:Join us for Challenge Alaska’s 2024 Spring Fling event! \nJoin the fun of Challenge Alaska Spring Fling Week! Create a fundraising page and raise $250 to support Challenge Alaska’s Programs to receive an Alyeska Resort lift ticket\, Spring Fling T-Shirt\, Lunch and be entered to win a variety of incredible prizes! The top 3 earners in every category will be automatic winners. \n\n\n\n\n\n\nApril 14-20\, 2024 \nRaising money for Challenge Alaska\, who support Alaskans living with disabilities through adaptive sports and therapeutic recreation! We are honored to have served the community for over 40 years. \nJoin the fun of Challenge Alaska Spring Fling Week! Create a fundraising page and raise $250 to support Challenge Alaska’s Ski School to receive an Alyeska Resort lift ticket\, Spring Fling T-Shirt\, Lunch and be entered to win a variety of incredible prizes! The top 3 earners in every category will be automatic winners. The grand prize drawing will be for 2 Alaska Airlines tickets!!! \n  \nSpring Fling Schedule \n – Sunday\, April 14: Mountain Scavenger Hunt –\nChallenge Alaska Ski School will set up a scavenger hunt around Alyeska Resort. Prizes have been generously donated by amazing sponsors. \n – Monday\, April 15: Matching Monday – \nOxford Assaying & Refining Corp. will match Classy donations for one day\, up to $4\,000! \n – Tuesday\, April 16: Take a Break Tuesday – \nGet outside and get active! Post your break in your Facebook or Instagram stories. Tag Challenge Alaska to be entered to win prizes to keep you active! \n  \n– Wednesday\, April 17: Challenge Alaska Stories – \nHave you volunteered at the Challenge Alaska ski school? Taken a lesson? Participated in any ski school programs? We want to hear about it! Post your stories\, and keep an eye on our page for Ski School Stories. \n  \n – Thursday\, April 18: Girdwood Grub & Suds – \nGet out and support our awesome local eateries and watering holes. Tag Challenge Alaska in your stories while at (or picking up from) of the participating spots to gain an entry to win a gift card to each location. Each place is one entry! \n  \n – Friday\, April 19: FundRAISE Friday – \nThe fundraiser who increases their personal page’s donation amount the most on this day gets a HUGE prize! \n – Saturday\, April 20: Breakfast\, Ski Day\, Lunch\, Awards Ceremony & Door Prizes – \nRaise $250 to support Challenge Alaska’s Ski School to receive an Alyeska Resort lift ticket\, SnowBlast T-Shirt\, Lunch and be entered to win a variety of incredible prizes!
URL:https://www.kendallgivesback.com/event/challenge-alaska-spring-fling/
CATEGORIES:Alaska,Alaska – Anchorage,Home
ATTACH;FMTTYPE=image/jpeg:https://assets.kendallgivesback.com/wp-content/uploads/2024/04/Untitled-design.jpg
END:VEVENT
END:VCALENDAR