BEGIN:VCALENDAR
VERSION:2.0
PRODID:-//Kendall Cares - ECPv6.15.20//NONSGML v1.0//EN
CALSCALE:GREGORIAN
METHOD:PUBLISH
X-ORIGINAL-URL:https://www.kendallgivesback.com
X-WR-CALDESC:Events for Kendall Cares
REFRESH-INTERVAL;VALUE=DURATION:PT1H
X-Robots-Tag:noindex
X-PUBLISHED-TTL:PT1H
BEGIN:VTIMEZONE
TZID:America/Anchorage
BEGIN:DAYLIGHT
TZOFFSETFROM:-0900
TZOFFSETTO:-0800
TZNAME:AKDT
DTSTART:20230312T110000
END:DAYLIGHT
BEGIN:STANDARD
TZOFFSETFROM:-0800
TZOFFSETTO:-0900
TZNAME:AKST
DTSTART:20231105T100000
END:STANDARD
BEGIN:DAYLIGHT
TZOFFSETFROM:-0900
TZOFFSETTO:-0800
TZNAME:AKDT
DTSTART:20240310T110000
END:DAYLIGHT
BEGIN:STANDARD
TZOFFSETFROM:-0800
TZOFFSETTO:-0900
TZNAME:AKST
DTSTART:20241103T100000
END:STANDARD
BEGIN:DAYLIGHT
TZOFFSETFROM:-0900
TZOFFSETTO:-0800
TZNAME:AKDT
DTSTART:20250309T110000
END:DAYLIGHT
BEGIN:STANDARD
TZOFFSETFROM:-0800
TZOFFSETTO:-0900
TZNAME:AKST
DTSTART:20251102T100000
END:STANDARD
END:VTIMEZONE
BEGIN:VEVENT
DTSTART;TZID=America/Anchorage:20240629T150000
DTEND;TZID=America/Anchorage:20240824T180000
DTSTAMP:20260421T202426
CREATED:20240516T191339Z
LAST-MODIFIED:20240516T191352Z
UID:10000126-1719673200-1724522400@www.kendallgivesback.com
SUMMARY:Kendall Toyota of Anchorage Downhill Race Series at Hilltop
DESCRIPTION:Don’t miss the Kendall Toyota of Anchorage Downhill Race Series at Hilltop. Who will be crowned King and Queen of the Hill? Come race or come heckle! Either way\, don’t miss this opportunity to watch some fast-action mountain bike racing and enjoy some good vibes.
URL:https://www.kendallgivesback.com/event/kendall-toyota-of-anchorage-downhill-race-series-at-hilltop/
CATEGORIES:Alaska,Alaska – Anchorage,Home
ATTACH;FMTTYPE=image/jpeg:https://assets.kendallgivesback.com/wp-content/uploads/2024/05/Kendall-Toyota-of-Anchorage.jpg
END:VEVENT
END:VCALENDAR