BEGIN:VCALENDAR
VERSION:2.0
PRODID:-//Kendall Cares - ECPv6.15.20//NONSGML v1.0//EN
CALSCALE:GREGORIAN
METHOD:PUBLISH
X-ORIGINAL-URL:https://www.kendallgivesback.com
X-WR-CALDESC:Events for Kendall Cares
REFRESH-INTERVAL;VALUE=DURATION:PT1H
X-Robots-Tag:noindex
X-PUBLISHED-TTL:PT1H
BEGIN:VTIMEZONE
TZID:America/Los_Angeles
BEGIN:DAYLIGHT
TZOFFSETFROM:-0800
TZOFFSETTO:-0700
TZNAME:PDT
DTSTART:20230312T100000
END:DAYLIGHT
BEGIN:STANDARD
TZOFFSETFROM:-0700
TZOFFSETTO:-0800
TZNAME:PST
DTSTART:20231105T090000
END:STANDARD
BEGIN:DAYLIGHT
TZOFFSETFROM:-0800
TZOFFSETTO:-0700
TZNAME:PDT
DTSTART:20240310T100000
END:DAYLIGHT
BEGIN:STANDARD
TZOFFSETFROM:-0700
TZOFFSETTO:-0800
TZNAME:PST
DTSTART:20241103T090000
END:STANDARD
BEGIN:DAYLIGHT
TZOFFSETFROM:-0800
TZOFFSETTO:-0700
TZNAME:PDT
DTSTART:20250309T100000
END:DAYLIGHT
BEGIN:STANDARD
TZOFFSETFROM:-0700
TZOFFSETTO:-0800
TZNAME:PST
DTSTART:20251102T090000
END:STANDARD
END:VTIMEZONE
BEGIN:VEVENT
DTSTART;VALUE=DATE:20240908
DTEND;VALUE=DATE:20240916
DTSTAMP:20260421T185352
CREATED:20240830T234633Z
LAST-MODIFIED:20240830T234633Z
UID:10000144-1725753600-1726444799@www.kendallgivesback.com
SUMMARY:Kendall Ford of Anchorage Is Proud to Support Our Military
DESCRIPTION:Kendall Ford of Anchorage is proud to support our military! We are honored to play and provide the hole-in-one to support those who serve and protect us. Thank you for allowing us to come out and enjoy a fantastic day at Moose Run Golf Course. \nWe look forward to an event filled with camaraderie\, laughter\, and appreciation for our brave servicemen and women. The lush greens of Moose Run Golf Course provided the perfect backdrop for a day of friendly competition. \n\n\nHere’s to many more events where we can come together as a community to honor and support our military heroes. Until then\, keep driving forward with pride and appreciation for those who give so much for our freedom.
URL:https://www.kendallgivesback.com/event/kendall-ford-of-anchorage-is-proud-to-support-our-military/
CATEGORIES:Alaska,Alaska – Anchorage,Home
ATTACH;FMTTYPE=image/jpeg:https://assets.kendallgivesback.com/wp-content/uploads/2024/08/Green-and-White-Illustrative-Golf-Tournament-Instagram-Story-1.jpg
END:VEVENT
END:VCALENDAR