BEGIN:VCALENDAR
VERSION:2.0
PRODID:-//Kendall Cares - ECPv6.15.20//NONSGML v1.0//EN
CALSCALE:GREGORIAN
METHOD:PUBLISH
X-WR-CALNAME:Kendall Cares
X-ORIGINAL-URL:https://www.kendallgivesback.com
X-WR-CALDESC:Events for Kendall Cares
REFRESH-INTERVAL;VALUE=DURATION:PT1H
X-Robots-Tag:noindex
X-PUBLISHED-TTL:PT1H
BEGIN:VTIMEZONE
TZID:America/Boise
BEGIN:DAYLIGHT
TZOFFSETFROM:-0700
TZOFFSETTO:-0600
TZNAME:MDT
DTSTART:20240310T090000
END:DAYLIGHT
BEGIN:STANDARD
TZOFFSETFROM:-0600
TZOFFSETTO:-0700
TZNAME:MST
DTSTART:20241103T080000
END:STANDARD
BEGIN:DAYLIGHT
TZOFFSETFROM:-0700
TZOFFSETTO:-0600
TZNAME:MDT
DTSTART:20250309T090000
END:DAYLIGHT
BEGIN:STANDARD
TZOFFSETFROM:-0600
TZOFFSETTO:-0700
TZNAME:MST
DTSTART:20251102T080000
END:STANDARD
BEGIN:DAYLIGHT
TZOFFSETFROM:-0700
TZOFFSETTO:-0600
TZNAME:MDT
DTSTART:20260308T090000
END:DAYLIGHT
BEGIN:STANDARD
TZOFFSETFROM:-0600
TZOFFSETTO:-0700
TZNAME:MST
DTSTART:20261101T080000
END:STANDARD
END:VTIMEZONE
BEGIN:VTIMEZONE
TZID:America/Anchorage
BEGIN:DAYLIGHT
TZOFFSETFROM:-0900
TZOFFSETTO:-0800
TZNAME:AKDT
DTSTART:20240310T110000
END:DAYLIGHT
BEGIN:STANDARD
TZOFFSETFROM:-0800
TZOFFSETTO:-0900
TZNAME:AKST
DTSTART:20241103T100000
END:STANDARD
BEGIN:DAYLIGHT
TZOFFSETFROM:-0900
TZOFFSETTO:-0800
TZNAME:AKDT
DTSTART:20250309T110000
END:DAYLIGHT
BEGIN:STANDARD
TZOFFSETFROM:-0800
TZOFFSETTO:-0900
TZNAME:AKST
DTSTART:20251102T100000
END:STANDARD
BEGIN:DAYLIGHT
TZOFFSETFROM:-0900
TZOFFSETTO:-0800
TZNAME:AKDT
DTSTART:20260308T110000
END:DAYLIGHT
BEGIN:STANDARD
TZOFFSETFROM:-0800
TZOFFSETTO:-0900
TZNAME:AKST
DTSTART:20261101T100000
END:STANDARD
END:VTIMEZONE
BEGIN:VEVENT
DTSTART;VALUE=DATE:20250603
DTEND;VALUE=DATE:20250604
DTSTAMP:20260421T064142
CREATED:20250415T005031Z
LAST-MODIFIED:20250415T005031Z
UID:10000205-1748908800-1748995199@www.kendallgivesback.com
SUMMARY:Bikes and Badges! AC4C\, Hilltop\, and Kendall Toyota of Anchorage
DESCRIPTION:Bikes & Badges: Anchorage Cops for Community (AC4C)\, Kendall Toyota of Anchorage\, and Hilltop Unite to Empower Kids Through Biking \nFor many kids\, the simple joy of riding a bike is a childhood staple—a first taste of independence\, adventure\, and confidence. But for children living in shelters\, access to bikes\, lessons\, and safe places to ride can be limited. That’s why AC4C (Anchorage Cops for Community)\, Hilltop\, and Kendall Toyota of Anchorage are coming together to host a special event\, Bikes & Badges\, dedicated to giving these kids the opportunity to experience the joy of cycling. \nAnchorage Cops for Community: Making a Difference \nAt the heart of this event is AC4C\, Anchorage Police Union’s non-profit initiative. AC4C is committed to building strong relationships between law enforcement and the community by engaging citizens in positive\, impactful ways. Through the support\, Anchorage’s officers go beyond their duty to make a real difference in children’s lives. Events like Bikes & Badges allow officers to connect with kids\, empowering them with opportunities to learn new skills while fostering trust and encouragement. \nThe event will offer: \nBike Lessons – Hilltop’s team of expert coaches will be available to instruct children on riding safely and with confidence\, while Police Officers promote encouragement and positive interactions.\nBike Rentals – Rentals will be provided for kids without bikes so everyone gets a chance to participate.\nFun & Games – A day filled with activities designed to keep the energy high and spirits lifted.\nFood & Refreshments – No great event is complete without delicious snacks to fuel the fun. \nWhy It Matters \nFor children facing housing insecurity\, this event provides more than just a fun day out—it’s a chance to feel seen\, supported\, and empowered. Learning to ride a bike isn’t just about fun; it’s about confidence\, resilience\, and the freedom to explore. Thanks to AC4C and the dedicated officers of the Anchorage Police Department\, along with the support of Hilltop and Kendall Toyota of Anchorage\, these kids will leave not only with new skills but also with memories of encouragement and community support. \nJoin us in making a difference—one bike ride at a time. \nIf you’d like to support this initiative and help provide continued outdoor adventure opportunities for these children\, please consider donating below to AC4C or Hilltop.
URL:https://www.kendallgivesback.com/event/bikes-and-badges-ac4c-hilltop-and-kendall-toyota-of-anchorage/
CATEGORIES:Alaska,Home
ATTACH;FMTTYPE=image/jpeg:https://assets.kendallgivesback.com/wp-content/uploads/2025/04/Bikes-Badges-.jpg
END:VEVENT
BEGIN:VEVENT
DTSTART;TZID=America/Anchorage:20250621T150000
DTEND;TZID=America/Anchorage:20250621T180000
DTSTAMP:20260421T064142
CREATED:20250306T014454Z
LAST-MODIFIED:20250318T151707Z
UID:10000197-1750518000-1750528800@www.kendallgivesback.com
SUMMARY:Kendall Hero Games
DESCRIPTION:Get Ready for the 2025 Kendall Hero Games at the Midnight Sun Festival! \n\n\nKendall Toyota of Fairbanks is proud to bring back the Kendall Hero Games\, an electrifying showdown honoring our Military and First Responders! Join us at this year’s Midnight Sun Festival as teams of heroes—and members of the public—compete in thrilling challenges that test their strength\, endurance\, and teamwork. \n\n\nThis year\, any team can compete on behalf of the military or first responder non-profit of their choice\, making it an even bigger celebration of community and support! From obstacle courses to strength competitions\, these events are designed to showcase the incredible skills and dedication of those who serve and protect us. Whether you’re competing or cheering from the sidelines\, expect an action-packed day filled with camaraderie\, community spirit\, and heart-pounding excitement! \nReady to sign up? This event requires a minimum of 5 people per team with a maximum of 10. Grab your teammates and sign up today! Kendall Hero Games RSVP
URL:https://www.kendallgivesback.com/event/kendall-hero-games-2/
CATEGORIES:Alaska,Alaska – Fairbanks,Home
ATTACH;FMTTYPE=image/jpeg:https://assets.kendallgivesback.com/wp-content/uploads/2025/03/23926-faitoy-Feb25-Alaska-Hero-Games-Web-Banner-1920x614-1.jpg
END:VEVENT
END:VCALENDAR