BEGIN:VCALENDAR
VERSION:2.0
PRODID:-//Kendall Cares - ECPv6.15.20//NONSGML v1.0//EN
CALSCALE:GREGORIAN
METHOD:PUBLISH
X-WR-CALNAME:Kendall Cares
X-ORIGINAL-URL:https://www.kendallgivesback.com
X-WR-CALDESC:Events for Kendall Cares
REFRESH-INTERVAL;VALUE=DURATION:PT1H
X-Robots-Tag:noindex
X-PUBLISHED-TTL:PT1H
BEGIN:VTIMEZONE
TZID:America/Boise
BEGIN:DAYLIGHT
TZOFFSETFROM:-0700
TZOFFSETTO:-0600
TZNAME:MDT
DTSTART:20240310T090000
END:DAYLIGHT
BEGIN:STANDARD
TZOFFSETFROM:-0600
TZOFFSETTO:-0700
TZNAME:MST
DTSTART:20241103T080000
END:STANDARD
BEGIN:DAYLIGHT
TZOFFSETFROM:-0700
TZOFFSETTO:-0600
TZNAME:MDT
DTSTART:20250309T090000
END:DAYLIGHT
BEGIN:STANDARD
TZOFFSETFROM:-0600
TZOFFSETTO:-0700
TZNAME:MST
DTSTART:20251102T080000
END:STANDARD
BEGIN:DAYLIGHT
TZOFFSETFROM:-0700
TZOFFSETTO:-0600
TZNAME:MDT
DTSTART:20260308T090000
END:DAYLIGHT
BEGIN:STANDARD
TZOFFSETFROM:-0600
TZOFFSETTO:-0700
TZNAME:MST
DTSTART:20261101T080000
END:STANDARD
END:VTIMEZONE
BEGIN:VTIMEZONE
TZID:America/Anchorage
BEGIN:DAYLIGHT
TZOFFSETFROM:-0900
TZOFFSETTO:-0800
TZNAME:AKDT
DTSTART:20240310T110000
END:DAYLIGHT
BEGIN:STANDARD
TZOFFSETFROM:-0800
TZOFFSETTO:-0900
TZNAME:AKST
DTSTART:20241103T100000
END:STANDARD
BEGIN:DAYLIGHT
TZOFFSETFROM:-0900
TZOFFSETTO:-0800
TZNAME:AKDT
DTSTART:20250309T110000
END:DAYLIGHT
BEGIN:STANDARD
TZOFFSETFROM:-0800
TZOFFSETTO:-0900
TZNAME:AKST
DTSTART:20251102T100000
END:STANDARD
BEGIN:DAYLIGHT
TZOFFSETFROM:-0900
TZOFFSETTO:-0800
TZNAME:AKDT
DTSTART:20260308T110000
END:DAYLIGHT
BEGIN:STANDARD
TZOFFSETFROM:-0800
TZOFFSETTO:-0900
TZNAME:AKST
DTSTART:20261101T100000
END:STANDARD
END:VTIMEZONE
BEGIN:VEVENT
DTSTART;VALUE=DATE:20250725
DTEND;VALUE=DATE:20250728
DTSTAMP:20260421T051753
CREATED:20250707T215255Z
LAST-MODIFIED:20250707T215255Z
UID:10000237-1753401600-1753660799@www.kendallgivesback.com
SUMMARY:Kendall Ford of Soldotna & Soldotna Equestrian Association
DESCRIPTION:Kendall Auto of the Kenai Peninsula is thrilled to serve as the Bull Night Sponsor at the Soldotna Rodeo! Join us this Saturday night to witness Tremor as he faces off against all challengers in the arena. From barrel racing to bull riding\, come out and support the competitors!
URL:https://www.kendallgivesback.com/event/kendall-ford-of-soldotna-soldotna-equestrian-association-2/
CATEGORIES:Alaska,Alaska - Kenai Peninsula,Home
ATTACH;FMTTYPE=image/jpeg:https://assets.kendallgivesback.com/wp-content/uploads/2025/07/Yellow-And-Black-Rodeo-Show-Poster-2.jpg
END:VEVENT
BEGIN:VEVENT
DTSTART;TZID=America/Anchorage:20250726T110000
DTEND;TZID=America/Anchorage:20250726T150000
DTSTAMP:20260421T051753
CREATED:20250707T214657Z
LAST-MODIFIED:20250707T214657Z
UID:10000236-1753527600-1753542000@www.kendallgivesback.com
SUMMARY:Kendall Auto of the Kenai Peninsula & Kuknu Kruzers
DESCRIPTION: Kuknu Kruzers Progress Day Car Show \nJoin us on July 26th from 11 AM to 3 PM for a spectacular showcase of classic cars\, trucks\, and hot rods! Cast your votes for your favorites\, and don’t worry if you can’t make up your mind—there will be awards for 1st through 5th place!
URL:https://www.kendallgivesback.com/event/kendall-auto-of-the-kenai-peninsula-kuknu-kruzers/
CATEGORIES:Alaska,Alaska - Kenai Peninsula,Home
ATTACH;FMTTYPE=image/jpeg:https://assets.kendallgivesback.com/wp-content/uploads/2025/07/Car-show-1.jpg
END:VEVENT
END:VCALENDAR