BEGIN:VCALENDAR
VERSION:2.0
PRODID:-//Kendall Cares - ECPv6.15.20//NONSGML v1.0//EN
CALSCALE:GREGORIAN
METHOD:PUBLISH
X-ORIGINAL-URL:https://www.kendallgivesback.com
X-WR-CALDESC:Events for Kendall Cares
REFRESH-INTERVAL;VALUE=DURATION:PT1H
X-Robots-Tag:noindex
X-PUBLISHED-TTL:PT1H
BEGIN:VTIMEZONE
TZID:America/Boise
BEGIN:DAYLIGHT
TZOFFSETFROM:-0700
TZOFFSETTO:-0600
TZNAME:MDT
DTSTART:20250309T090000
END:DAYLIGHT
BEGIN:STANDARD
TZOFFSETFROM:-0600
TZOFFSETTO:-0700
TZNAME:MST
DTSTART:20251102T080000
END:STANDARD
BEGIN:DAYLIGHT
TZOFFSETFROM:-0700
TZOFFSETTO:-0600
TZNAME:MDT
DTSTART:20260308T090000
END:DAYLIGHT
BEGIN:STANDARD
TZOFFSETFROM:-0600
TZOFFSETTO:-0700
TZNAME:MST
DTSTART:20261101T080000
END:STANDARD
BEGIN:DAYLIGHT
TZOFFSETFROM:-0700
TZOFFSETTO:-0600
TZNAME:MDT
DTSTART:20270314T090000
END:DAYLIGHT
BEGIN:STANDARD
TZOFFSETFROM:-0600
TZOFFSETTO:-0700
TZNAME:MST
DTSTART:20271107T080000
END:STANDARD
END:VTIMEZONE
BEGIN:VTIMEZONE
TZID:America/Anchorage
BEGIN:DAYLIGHT
TZOFFSETFROM:-0900
TZOFFSETTO:-0800
TZNAME:AKDT
DTSTART:20250309T110000
END:DAYLIGHT
BEGIN:STANDARD
TZOFFSETFROM:-0800
TZOFFSETTO:-0900
TZNAME:AKST
DTSTART:20251102T100000
END:STANDARD
BEGIN:DAYLIGHT
TZOFFSETFROM:-0900
TZOFFSETTO:-0800
TZNAME:AKDT
DTSTART:20260308T110000
END:DAYLIGHT
BEGIN:STANDARD
TZOFFSETFROM:-0800
TZOFFSETTO:-0900
TZNAME:AKST
DTSTART:20261101T100000
END:STANDARD
BEGIN:DAYLIGHT
TZOFFSETFROM:-0900
TZOFFSETTO:-0800
TZNAME:AKDT
DTSTART:20270314T110000
END:DAYLIGHT
BEGIN:STANDARD
TZOFFSETFROM:-0800
TZOFFSETTO:-0900
TZNAME:AKST
DTSTART:20271107T100000
END:STANDARD
END:VTIMEZONE
BEGIN:VEVENT
DTSTART;VALUE=DATE:20260221
DTEND;VALUE=DATE:20260222
DTSTAMP:20260421T135259
CREATED:20251223T012852Z
LAST-MODIFIED:20260217T153532Z
UID:10000292-1771632000-1771718399@www.kendallgivesback.com
SUMMARY:Built for the Toughest Ride
DESCRIPTION:Kendall Toyota of Anchorage is proud to support the Iron Dog\, the world’s longest and toughest snowmobile race. \nCovering more than 2\,500 miles across the rugged Alaskan backcountry\, the Iron Dog is the ultimate test of endurance\, skill\, and teamwork. From February 12–21\, 2026\, racers will take on extreme terrain and conditions that truly define Alaska. \nWe’re honored to stand behind an event that celebrates resilience\, adventure\, and the incredible spirit of this state. Best of luck to all the teams — ride smart and stay safe out there!
URL:https://www.kendallgivesback.com/event/47079/
CATEGORIES:Alaska,Alaska – Anchorage,Alaska – Fairbanks,Home
ATTACH;FMTTYPE=image/jpeg:https://assets.kendallgivesback.com/wp-content/uploads/2025/12/iron-dog.jpg
END:VEVENT
BEGIN:VEVENT
DTSTART;VALUE=DATE:20260320
DTEND;VALUE=DATE:20260321
DTSTAMP:20260421T135259
CREATED:20260302T183320Z
LAST-MODIFIED:20260302T183320Z
UID:10000325-1773964800-1774051199@www.kendallgivesback.com
SUMMARY:Kendall Auto Fairbanks Proudly Sponsors Military Youth of the Year at Eielson AFB
DESCRIPTION:Kendall Auto Fairbanks is honored to sponsor this year’s Military Youth of the Year program hosted at Eielson Air Force Base. 🇺🇸 \nThis year\, Eielson is proud to serve as the host installation\, and we are proud to support the event and help provide funding for the activities that make this leadership program so impactful. \nThe Youth of the Year program develops teens’ leadership skills through meaningful experiences both in and out of the club. Participants take part in hands-on activities exploring identity\, passion\, personal branding\, voice\, teamwork\, and goal setting — all while preparing for the Youth of the Year selection process. \nEach year\, one outstanding teen is selected to represent Eielson AFB as their Military Youth of the Year and will go on to compete at the regional level against other military bases for the opportunity to earn additional scholarships. \nWe are grateful to support a program that invests in the future leaders of our military community. Congratulations to all of this year’s participants — your leadership and commitment inspire us!
URL:https://www.kendallgivesback.com/event/kendall-auto-fairbanks-proudly-sponsors-military-youth-of-the-year-at-eielson-afb/
CATEGORIES:Alaska,Alaska – Fairbanks,Home
ATTACH;FMTTYPE=image/jpeg:https://assets.kendallgivesback.com/wp-content/uploads/2026/03/Youth-of-the-year-2.jpg
END:VEVENT
BEGIN:VEVENT
DTSTART;VALUE=DATE:20260326
DTEND;VALUE=DATE:20260327
DTSTAMP:20260421T135259
CREATED:20260220T132624Z
LAST-MODIFIED:20260220T132624Z
UID:10000317-1774483200-1774569599@www.kendallgivesback.com
SUMMARY:UAA SKILLS Compatition- Alaska
DESCRIPTION:Kendall Auto Alaska is excited to support this year’s SKILLS Automotive Competition! \nThis fun and competitive event brings together talented high school automotive students from across Alaska to test their skills\, knowledge\, and hands-on abilities in the automotive field. \nHosted at the UAA Diesel Automotive Technology Program Building\, students will showcase their technical expertise\, problem-solving skills\, and passion for the industry. \nWe’re proud to help inspire and support the next generation of automotive professionals right here in Alaska. \nJoin us in cheering on these incredible students as they put their skills to the test!
URL:https://www.kendallgivesback.com/event/uaa-skills-compatition-alaska/
CATEGORIES:Alaska,Alaska – Anchorage,Alaska – Fairbanks,Alaska – Wasilla,Home
ATTACH;FMTTYPE=image/jpeg:https://assets.kendallgivesback.com/wp-content/uploads/2026/02/Skills-1.jpg
END:VEVENT
BEGIN:VEVENT
DTSTART;TZID=America/Anchorage:20260328T110000
DTEND;TZID=America/Anchorage:20260328T150000
DTSTAMP:20260421T135259
CREATED:20260227T200539Z
LAST-MODIFIED:20260227T200539Z
UID:10000321-1774695600-1774710000@www.kendallgivesback.com
SUMMARY:The Easter Bunny is coming to Soldotna!
DESCRIPTION:Peter Cottontail is making a stop at Kendall Auto of the Kenai Peninsula \nJoin us March 28th from 11AM–3PM for a FREE photo with the Easter Bunny! \nWe’re excited to host a little Easter fun for our Kenai Peninsula community. Hope to see you there!
URL:https://www.kendallgivesback.com/event/the-easter-bunny-is-coming-to-soldotna/
CATEGORIES:Alaska,Alaska - Kenai Peninsula,Home
ATTACH;FMTTYPE=image/jpeg:https://assets.kendallgivesback.com/wp-content/uploads/2026/02/Easter-Poster-2025-1600-x-600-px-2.jpg
END:VEVENT
BEGIN:VEVENT
DTSTART;VALUE=DATE:20260404
DTEND;VALUE=DATE:20260405
DTSTAMP:20260421T135259
CREATED:20251224T005834Z
LAST-MODIFIED:20260217T153427Z
UID:10000294-1775260800-1775347199@www.kendallgivesback.com
SUMMARY:Get ready to Sink or Skim!
DESCRIPTION:Kendall Toyota of Anchorage is gearing up and excited for this year’s 5th Annual Sink or Skim Pond Skim at Hilltop! \nWe’re on the edge of our seats\, keeping a close eye on the weather as we count down to the official event date announcement. \nWe are watching the weather like our pond-skimming reputations depend on it! \nCostumes? Required.Balance? Optional.Dry socks? Unlikely. \nWe’re counting down to the big date announcement\, so start planning that outrageous outfit\, wax those skis (or don’t)\, and prepare to either skim like a pro… or make a legendary splash. \nStay tuned\, get your costume ready\, and let’s get ready to SKIM (or SINK in style)!
URL:https://www.kendallgivesback.com/event/get-ready-to-sink-or-skim/
CATEGORIES:Alaska,Alaska – Anchorage,Home
ATTACH;FMTTYPE=image/jpeg:https://assets.kendallgivesback.com/wp-content/uploads/2025/12/Skim-The-Pond-3.jpg
END:VEVENT
BEGIN:VEVENT
DTSTART;VALUE=DATE:20260509
DTEND;VALUE=DATE:20260510
DTSTAMP:20260421T135259
CREATED:20260220T132934Z
LAST-MODIFIED:20260220T133023Z
UID:10000318-1778284800-1778371199@www.kendallgivesback.com
SUMMARY:Unniversaty of Alaska Anchorage\, 2026 Diesel EXPO!
DESCRIPTION:Mark your calendars for May 9th and join us at the UAA Automotive Department for an unforgettable day of horsepower\, chrome\, and community! \nThe 2026 Diesel Expo is bringing together automotive enthusiasts from all over Alaska to show off their cool rides\, latest accessories\, and love for cars. And it’s not just diesel engines — you’ll see sports cars\, classics\, lifted trucks\, and local car clubs all in one place! \nThis event is more than just a car show — it’s a chance to come together and raise funds in support of the UAA Automotive Program\, helping develop the next generation of skilled technicians right here in Alaska
URL:https://www.kendallgivesback.com/event/unniversaty-of-alaska-anchorage-2026-diesel-expo/
CATEGORIES:Alaska,Alaska – Anchorage,Home
ATTACH;FMTTYPE=image/jpeg:https://assets.kendallgivesback.com/wp-content/uploads/2026/02/Expo.jpg
END:VEVENT
BEGIN:VEVENT
DTSTART;VALUE=DATE:20260511
DTEND;VALUE=DATE:20260517
DTSTAMP:20260421T135259
CREATED:20260220T131828Z
LAST-MODIFIED:20260220T131828Z
UID:10000316-1778457600-1778975999@www.kendallgivesback.com
SUMMARY:Subaru Loves the Earth – Arbor Day Celebration!- Fairbanks
DESCRIPTION:Kendall Subaru of Fairbanks is proud to celebrate Arbor Day with our community! \nAs part of Subaru Loves the Earth\, we’re giving away trees to help make Fairbanks a little greener — one tree at a time. \nJoin us in supporting a healthier planet and beautifying our community. \nReserve your tree today! Pick up at Kendall Subaru of FairbanksWhile supplies last \nLet’s grow something great together.
URL:https://www.kendallgivesback.com/event/subaru-loves-the-earth-arbor-day-celebration-fairbanks/
CATEGORIES:Alaska,Alaska – Fairbanks,Home
ATTACH;FMTTYPE=image/jpeg:https://assets.kendallgivesback.com/wp-content/uploads/2026/02/Subaru-loves-the-Earth.jpg
END:VEVENT
END:VCALENDAR