BEGIN:VCALENDAR
VERSION:2.0
PRODID:-//Kendall Cares - ECPv6.15.20//NONSGML v1.0//EN
CALSCALE:GREGORIAN
METHOD:PUBLISH
X-ORIGINAL-URL:https://www.kendallgivesback.com
X-WR-CALDESC:Events for Kendall Cares
REFRESH-INTERVAL;VALUE=DURATION:PT1H
X-Robots-Tag:noindex
X-PUBLISHED-TTL:PT1H
BEGIN:VTIMEZONE
TZID:America/Boise
BEGIN:DAYLIGHT
TZOFFSETFROM:-0700
TZOFFSETTO:-0600
TZNAME:MDT
DTSTART:20250309T090000
END:DAYLIGHT
BEGIN:STANDARD
TZOFFSETFROM:-0600
TZOFFSETTO:-0700
TZNAME:MST
DTSTART:20251102T080000
END:STANDARD
BEGIN:DAYLIGHT
TZOFFSETFROM:-0700
TZOFFSETTO:-0600
TZNAME:MDT
DTSTART:20260308T090000
END:DAYLIGHT
BEGIN:STANDARD
TZOFFSETFROM:-0600
TZOFFSETTO:-0700
TZNAME:MST
DTSTART:20261101T080000
END:STANDARD
BEGIN:DAYLIGHT
TZOFFSETFROM:-0700
TZOFFSETTO:-0600
TZNAME:MDT
DTSTART:20270314T090000
END:DAYLIGHT
BEGIN:STANDARD
TZOFFSETFROM:-0600
TZOFFSETTO:-0700
TZNAME:MST
DTSTART:20271107T080000
END:STANDARD
END:VTIMEZONE
BEGIN:VEVENT
DTSTART;VALUE=DATE:20260404
DTEND;VALUE=DATE:20260405
DTSTAMP:20260421T064915
CREATED:20251224T005834Z
LAST-MODIFIED:20260217T153427Z
UID:10000294-1775260800-1775347199@www.kendallgivesback.com
SUMMARY:Get ready to Sink or Skim!
DESCRIPTION:Kendall Toyota of Anchorage is gearing up and excited for this year’s 5th Annual Sink or Skim Pond Skim at Hilltop! \nWe’re on the edge of our seats\, keeping a close eye on the weather as we count down to the official event date announcement. \nWe are watching the weather like our pond-skimming reputations depend on it! \nCostumes? Required.Balance? Optional.Dry socks? Unlikely. \nWe’re counting down to the big date announcement\, so start planning that outrageous outfit\, wax those skis (or don’t)\, and prepare to either skim like a pro… or make a legendary splash. \nStay tuned\, get your costume ready\, and let’s get ready to SKIM (or SINK in style)!
URL:https://www.kendallgivesback.com/event/get-ready-to-sink-or-skim/
CATEGORIES:Alaska,Alaska – Anchorage,Home
ATTACH;FMTTYPE=image/jpeg:https://assets.kendallgivesback.com/wp-content/uploads/2025/12/Skim-The-Pond-3.jpg
END:VEVENT
BEGIN:VEVENT
DTSTART;VALUE=DATE:20260509
DTEND;VALUE=DATE:20260510
DTSTAMP:20260421T064915
CREATED:20260220T132934Z
LAST-MODIFIED:20260220T133023Z
UID:10000318-1778284800-1778371199@www.kendallgivesback.com
SUMMARY:Unniversaty of Alaska Anchorage\, 2026 Diesel EXPO!
DESCRIPTION:Mark your calendars for May 9th and join us at the UAA Automotive Department for an unforgettable day of horsepower\, chrome\, and community! \nThe 2026 Diesel Expo is bringing together automotive enthusiasts from all over Alaska to show off their cool rides\, latest accessories\, and love for cars. And it’s not just diesel engines — you’ll see sports cars\, classics\, lifted trucks\, and local car clubs all in one place! \nThis event is more than just a car show — it’s a chance to come together and raise funds in support of the UAA Automotive Program\, helping develop the next generation of skilled technicians right here in Alaska
URL:https://www.kendallgivesback.com/event/unniversaty-of-alaska-anchorage-2026-diesel-expo/
CATEGORIES:Alaska,Alaska – Anchorage,Home
ATTACH;FMTTYPE=image/jpeg:https://assets.kendallgivesback.com/wp-content/uploads/2026/02/Expo.jpg
END:VEVENT
BEGIN:VEVENT
DTSTART;VALUE=DATE:20260511
DTEND;VALUE=DATE:20260517
DTSTAMP:20260421T064915
CREATED:20260220T131828Z
LAST-MODIFIED:20260220T131828Z
UID:10000316-1778457600-1778975999@www.kendallgivesback.com
SUMMARY:Subaru Loves the Earth – Arbor Day Celebration!- Fairbanks
DESCRIPTION:Kendall Subaru of Fairbanks is proud to celebrate Arbor Day with our community! \nAs part of Subaru Loves the Earth\, we’re giving away trees to help make Fairbanks a little greener — one tree at a time. \nJoin us in supporting a healthier planet and beautifying our community. \nReserve your tree today! Pick up at Kendall Subaru of FairbanksWhile supplies last \nLet’s grow something great together.
URL:https://www.kendallgivesback.com/event/subaru-loves-the-earth-arbor-day-celebration-fairbanks/
CATEGORIES:Alaska,Alaska – Fairbanks,Home
ATTACH;FMTTYPE=image/jpeg:https://assets.kendallgivesback.com/wp-content/uploads/2026/02/Subaru-loves-the-Earth.jpg
END:VEVENT
END:VCALENDAR