BEGIN:VCALENDAR
VERSION:2.0
PRODID:-//Kendall Cares - ECPv6.15.20//NONSGML v1.0//EN
CALSCALE:GREGORIAN
METHOD:PUBLISH
X-ORIGINAL-URL:https://www.kendallgivesback.com
X-WR-CALDESC:Events for Kendall Cares
REFRESH-INTERVAL;VALUE=DURATION:PT1H
X-Robots-Tag:noindex
X-PUBLISHED-TTL:PT1H
BEGIN:VTIMEZONE
TZID:America/Los_Angeles
BEGIN:DAYLIGHT
TZOFFSETFROM:-0800
TZOFFSETTO:-0700
TZNAME:PDT
DTSTART:20180311T100000
END:DAYLIGHT
BEGIN:STANDARD
TZOFFSETFROM:-0700
TZOFFSETTO:-0800
TZNAME:PST
DTSTART:20181104T090000
END:STANDARD
BEGIN:DAYLIGHT
TZOFFSETFROM:-0800
TZOFFSETTO:-0700
TZNAME:PDT
DTSTART:20190310T100000
END:DAYLIGHT
BEGIN:STANDARD
TZOFFSETFROM:-0700
TZOFFSETTO:-0800
TZNAME:PST
DTSTART:20191103T090000
END:STANDARD
BEGIN:DAYLIGHT
TZOFFSETFROM:-0800
TZOFFSETTO:-0700
TZNAME:PDT
DTSTART:20200308T100000
END:DAYLIGHT
BEGIN:STANDARD
TZOFFSETFROM:-0700
TZOFFSETTO:-0800
TZNAME:PST
DTSTART:20201101T090000
END:STANDARD
END:VTIMEZONE
BEGIN:VEVENT
DTSTART;TZID=America/Los_Angeles:20190608T140000
DTEND;TZID=America/Los_Angeles:20190608T160000
DTSTAMP:20260425T200106
CREATED:20190522T210513Z
LAST-MODIFIED:20190522T210847Z
UID:10000003-1560002400-1560009600@www.kendallgivesback.com
SUMMARY:Porsche Anniversary Sports Car Show
DESCRIPTION:Join us as we celebrate the special anniversaries of\nPorsche and Porsche Bend!\nWe’re commemorating the occasion with a lineup of all 71 years of Porsche on display. \nPeruse the impressive car show before voting for the People’s Choice Award Winner\, which will be announced at 5:00 pm. Guests will also enjoy food\, drinks\, music\, and even a caricature artist! \nCelebrate 71 years of Porsche and 2 years of Porsche Bend with an unforgettable car show and the shared company of fellow Porsche enthusiasts just like you. \nRSVP today by clicking HERE.\nWhen: Saturday\, June 8th from 4:00 pm – 6:00 pm\nWhere: Porsche Bend\, 1055 SE 3rd St\, Bend\, OR 97702
URL:https://www.kendallgivesback.com/event/porsche-anniversary-sports-car-show/
LOCATION:Porsche Bend\, 1055 SE 3rd St\, Bend\, OR\, 97702\, United States
CATEGORIES:Oregon – Bend
ATTACH;FMTTYPE=image/jpeg:https://assets.kendallgivesback.com/wp-content/uploads/2019/05/14293-benpor-June19-Summer-Kickoff-Party-1080x1080-V2-REV_Kendall-Basics-1.jpg
END:VEVENT
BEGIN:VEVENT
DTSTART;TZID=America/Los_Angeles:20190608T160000
DTEND;TZID=America/Los_Angeles:20190608T180000
DTSTAMP:20260425T200106
CREATED:20190522T204736Z
LAST-MODIFIED:20190522T205034Z
UID:10000004-1560009600-1560016800@www.kendallgivesback.com
SUMMARY:The Macan Launch Event
DESCRIPTION:Choose thrilling.\nThe Macan Launch Event\nPorsche has proven that it will not be dictated to. It doesn’t follow trends. Porsche prefers to write its own adventure stories. Such as that of a compact SUV that inextricably combines sportiness\, design and everyday practicality: the new Macan. \nJoin us for the Macan Launch Event at Porsche Bend as we unveil the most daring Porsche yet. The 2019 Porsche Macan is a compact SUV unlike any other – this turbocharged\, high-performance Porsche has uncompromising luxury and precision. \nEnjoy a thrilling selection of food and drinks\, music\, and even a caricature artist. You can also view an impressive car show featuring all 71 years of Porsche on display. \nPorsche never settles\, and neither should you. Come see what the best of both worlds looks like at the Macan Launch Event. \nCLICK HERE TO RSVP \nWhen: Saturday\, June 8th from 4:00 pm – 6:00 pm\nWhere: Porsche Bend\, 1055 SE 3rd St\, Bend\, OR 97702
URL:https://www.kendallgivesback.com/event/the-macan-launch-event/
LOCATION:Porsche Bend\, 1055 SE 3rd St\, Bend\, OR\, 97702\, United States
CATEGORIES:Oregon – Bend
ATTACH;FMTTYPE=image/jpeg:https://assets.kendallgivesback.com/wp-content/uploads/2019/05/MACAN_Kendall_Basics.jpg
END:VEVENT
BEGIN:VEVENT
DTSTART;TZID=America/Los_Angeles:20190615T140000
DTEND;TZID=America/Los_Angeles:20190615T170000
DTSTAMP:20260425T200106
CREATED:20190522T203929Z
LAST-MODIFIED:20190522T205453Z
UID:10000019-1560607200-1560618000@www.kendallgivesback.com
SUMMARY:4th Annual VW Summer Bug-In
DESCRIPTION:KENDALL VOLKSWAGEN OF BEND’S\n4TH ANNUAL SUMMER BUG-IN\nRelive those carefree 70’s summer days at Kendall Volkswagen of Bend! We’re hosting our 4th Annual Summer Bug-In on Saturday\, June 15th for Bug lovers of all ages. \nJoin us for an afternoon of family fun\, food\, drinks\, and the coolest Volkswagen vehicles in all of Central Oregon. Plus\, guests will vote on the Best Super Beetle\, Best Van\, Best Retro\, and All-Around Favorite!\nDon’t miss out on this day of carefree good times and an exciting lineup of classic VW vehicles –  CLICK HERE to RSVP. \nWhen: Saturday\, June 15th from 2:00pm – 5:00pm\nWhere: Kendall VW of Bend\, 1975 NE Hwy 20\, Bend\, OR 97701
URL:https://www.kendallgivesback.com/event/4th-annual-vw-summer-bug-in/
LOCATION:Kendall VW of Bend\, 1975 NE Hwy 20\, Bend\, OR\, 97701\, United States
CATEGORIES:Oregon – Bend
ATTACH;FMTTYPE=image/jpeg:https://assets.kendallgivesback.com/wp-content/uploads/2019/05/benvol-May19-VW-Annual-Bug-In-4A.jpg
END:VEVENT
END:VCALENDAR