BEGIN:VCALENDAR
VERSION:2.0
PRODID:-//Kendall Cares - ECPv6.15.20//NONSGML v1.0//EN
CALSCALE:GREGORIAN
METHOD:PUBLISH
X-WR-CALNAME:Kendall Cares
X-ORIGINAL-URL:https://www.kendallgivesback.com
X-WR-CALDESC:Events for Kendall Cares
REFRESH-INTERVAL;VALUE=DURATION:PT1H
X-Robots-Tag:noindex
X-PUBLISHED-TTL:PT1H
BEGIN:VTIMEZONE
TZID:America/Los_Angeles
BEGIN:DAYLIGHT
TZOFFSETFROM:-0800
TZOFFSETTO:-0700
TZNAME:PDT
DTSTART:20220313T100000
END:DAYLIGHT
BEGIN:STANDARD
TZOFFSETFROM:-0700
TZOFFSETTO:-0800
TZNAME:PST
DTSTART:20221106T090000
END:STANDARD
BEGIN:DAYLIGHT
TZOFFSETFROM:-0800
TZOFFSETTO:-0700
TZNAME:PDT
DTSTART:20230312T100000
END:DAYLIGHT
BEGIN:STANDARD
TZOFFSETFROM:-0700
TZOFFSETTO:-0800
TZNAME:PST
DTSTART:20231105T090000
END:STANDARD
BEGIN:DAYLIGHT
TZOFFSETFROM:-0800
TZOFFSETTO:-0700
TZNAME:PDT
DTSTART:20240310T100000
END:DAYLIGHT
BEGIN:STANDARD
TZOFFSETFROM:-0700
TZOFFSETTO:-0800
TZNAME:PST
DTSTART:20241103T090000
END:STANDARD
END:VTIMEZONE
BEGIN:VEVENT
DTSTART;TZID=America/Los_Angeles:20231005T180000
DTEND;TZID=America/Los_Angeles:20231005T220000
DTSTAMP:20260422T133317
CREATED:20230911T204125Z
LAST-MODIFIED:20230911T204125Z
UID:10000051-1696528800-1696543200@www.kendallgivesback.com
SUMMARY:Kendall Concert Series Continues with Collective Soul
DESCRIPTION:See you on October 5th!\nCalling all Kendall customers\, team members\, and community! Join us for the last concert of the summer in the 2023 Kendall Concert Series on October 5th at the Century Center for Collective Soul. There is no better way to wrap up another summer of incredible concerts than with Collective Soul and singing some of their hits such as Shine\, The World I Know\, and Heavy. As a part of the Kendall Concert Series\, $1.00 of every ticket sold will go to Central Oregon Trail Alliance\, whose mission is to build & maintain our beautiful trails in Central Oregon. Stay local and support your community; we will see you there! \nVisit the link to the right of this post at bendticket.com to grab yours today!
URL:https://www.kendallgivesback.com/event/kendall-concert-series-continues-with-collective-soul/
LOCATION:Century Center\, 70 SW Century Dr\, Bend\, OR\, 97702\, United States
CATEGORIES:Home,Oregon – Bend
ATTACH;FMTTYPE=image/jpeg:https://assets.kendallgivesback.com/wp-content/uploads/2023/09/Kendall-Concert-Series.jpg
END:VEVENT
BEGIN:VEVENT
DTSTART;TZID=America/Los_Angeles:20231007T180000
DTEND;TZID=America/Los_Angeles:20231007T220000
DTSTAMP:20260422T133317
CREATED:20230829T150813Z
LAST-MODIFIED:20230830T194240Z
UID:10000049-1696701600-1696716000@www.kendallgivesback.com
SUMMARY:Comedy For Kid's Sake Benefitting Big Brothers Big Sisters of Central Oregon
DESCRIPTION:Join Big Brothers Big Sisters of Central Oregon’s 26th Comedy For Kids’ Sake\, presented by Transworld Business Advisors of Central Oregon on Saturday\, October 7th at the Tower Theatre. The event set to be an unforgettable night of laughter\, entertainment\, and community spirit\, with a lineup of two top-notch comedians including Kendall’s own\, Jack Shuttleworth! Guests can look forward to a heartwarming evening\, celebrating the power of mentorship and the positive impact it has on the lives of young people. \nThe fundraising event will not only feature an outstanding comedy show\, but it will also include a live and silent auction\, providing attendees with an opportunity to bid on a diverse selection of exclusive trips\, items and experiences. From once-in-a-lifetime getaways to local services and photography\, there will be something for everyone to bid on and enjoy. \nBy attending Comedy For Kids’ Sake and participating in the auction\, guests will not only have a night to remember but will also contribute to the life changing mentoring relationships created by Big Brothers Big Sisters of Central Oregon. Every dollar raised will directly support our mission of providing mentorship to young people facing adversity. \nABOUT JACK SHUTTLEWORTH: \nJack Shuttleworth has lived in Bend for 9 years working with the Kendall Auto Group and currently is the General Manager of Kendall Volkswagen of Bend. He was a stand-up comedian in his previous life before children or Kendall and enjoys writing and performing. He is the 3rd funniest person in his family (behind his two kids) and by far the funniest employee within the Kendall Auto Group of Central Oregon. He is charming\, funny\, and handsome when fully clothed. He has a reoccurring role as the funniest man on earth in front of the bathroom mirror and his wife can’t get enough of his jokes. We are sure you will like him as much as he does. \nFor more information or to purchase tickets\, please visit the website linked to the right of this post: \nGeneral Admission tickets are $60. \nVIP Admission: $110
URL:https://www.kendallgivesback.com/event/comedy-for-kids-sake-benefitting-big-brothers-big-sisters-of-central-oregon/
LOCATION:Tower Theatre\, 835 NW Wall St\, Bend\, OR\, 97703\, United States
CATEGORIES:Oregon – Bend
ATTACH;FMTTYPE=image/jpeg:https://assets.kendallgivesback.com/wp-content/uploads/2023/08/ComedyForKidsSake_JackShuttleworth.jpg
END:VEVENT
BEGIN:VEVENT
DTSTART;TZID=America/Los_Angeles:20231028T100000
DTEND;TZID=America/Los_Angeles:20231028T120000
DTSTAMP:20260422T133317
CREATED:20231018T221142Z
LAST-MODIFIED:20231018T221142Z
UID:10000083-1698487200-1698494400@www.kendallgivesback.com
SUMMARY:You're Invited to Kendall Central Oregon's CARS & COFFEE!
DESCRIPTION:CARS\, COFFEE\, GARAGE SALE\nYou’re invited to Kendall’s Cars & Coffee at Kendall Motorsport on Saturday\, October 28th at 10:00am! ALL cars are welcome and we are looking forward to ending the driving season\, together. \nWe are also hosting a Kendall Imports parts BLOWOUT SALE! Have you been dreaming about customizing your car or rockin’ your favorite brand’s merchandise? Now is the time! \nSee you on the 28th for cars\, coffee\, and a garage sale like you’ve never seen. \nDETAILS TO THE RIGHT OF THIS POST –>
URL:https://www.kendallgivesback.com/event/youre-invited-to-kendall-central-oregons-cars-coffee/
LOCATION:Kendall Motorsport\, 1091 SE 3rd St\, Bend\, OR\, 97702\, United States
CATEGORIES:Home,Oregon – Bend
ATTACH;FMTTYPE=image/jpeg:https://assets.kendallgivesback.com/wp-content/uploads/2023/10/CARS-COFFEE-2.jpg
END:VEVENT
END:VCALENDAR