BEGIN:VCALENDAR
VERSION:2.0
PRODID:-//Kendall Cares - ECPv6.15.20//NONSGML v1.0//EN
CALSCALE:GREGORIAN
METHOD:PUBLISH
X-WR-CALNAME:Kendall Cares
X-ORIGINAL-URL:https://www.kendallgivesback.com
X-WR-CALDESC:Events for Kendall Cares
REFRESH-INTERVAL;VALUE=DURATION:PT1H
X-Robots-Tag:noindex
X-PUBLISHED-TTL:PT1H
BEGIN:VTIMEZONE
TZID:America/Los_Angeles
BEGIN:DAYLIGHT
TZOFFSETFROM:-0800
TZOFFSETTO:-0700
TZNAME:PDT
DTSTART:20230312T100000
END:DAYLIGHT
BEGIN:STANDARD
TZOFFSETFROM:-0700
TZOFFSETTO:-0800
TZNAME:PST
DTSTART:20231105T090000
END:STANDARD
BEGIN:DAYLIGHT
TZOFFSETFROM:-0800
TZOFFSETTO:-0700
TZNAME:PDT
DTSTART:20240310T100000
END:DAYLIGHT
BEGIN:STANDARD
TZOFFSETFROM:-0700
TZOFFSETTO:-0800
TZNAME:PST
DTSTART:20241103T090000
END:STANDARD
BEGIN:DAYLIGHT
TZOFFSETFROM:-0800
TZOFFSETTO:-0700
TZNAME:PDT
DTSTART:20250309T100000
END:DAYLIGHT
BEGIN:STANDARD
TZOFFSETFROM:-0700
TZOFFSETTO:-0800
TZNAME:PST
DTSTART:20251102T090000
END:STANDARD
END:VTIMEZONE
BEGIN:VEVENT
DTSTART;TZID=America/Los_Angeles:20241203T080000
DTEND;TZID=America/Los_Angeles:20241211T170000
DTSTAMP:20260421T182751
CREATED:20241204T204701Z
LAST-MODIFIED:20241204T204701Z
UID:10000166-1733212800-1733936400@www.kendallgivesback.com
SUMMARY:Kendall Central Oregon 12 Days of Caring - TOY DRIVE!!
DESCRIPTION:Toys Needed for the Giving Plate’s Jingle Store!\nFrom now until December 13th\, Central Oregon will be collecting toy donations to support the Giving Plate’s annual Jingle Store! The Giving Plate is asking our community for toys & gifts for children up to 17 years old to ensure we all get to not only receive gifts on Christmas\, but give them too. The Jingle Store will be open on December 20th and 21st at the Riverhouse Convention Center for low-to-moderate income children. The Giving Plate team transforms the Riverhouse into a magical wonderland\, where kids will not only get to shop for their families (for free thanks to your donations)\, but also have the opportunity to meet Santa\, snowy princesses\, Buddy the Elf\, and so much more. With your support\, we get to empower our community with giving them the opportunity to pick out the perfect gifts for their family & loved ones. \nTo learn more about the Giving Plate’s Jingle Store\, please visit: https://www.thegivingplate.org/jinglestore
URL:https://www.kendallgivesback.com/event/kendall-central-oregon-12-days-of-caring-toy-drive/
LOCATION:OR
CATEGORIES:Home,Oregon – Bend
ATTACH;FMTTYPE=image/jpeg:https://assets.kendallgivesback.com/wp-content/uploads/2024/12/Toy-Drive-2.jpg
END:VEVENT
BEGIN:VEVENT
DTSTART;TZID=America/Los_Angeles:20241207T150000
DTEND;TZID=America/Los_Angeles:20241207T190000
DTSTAMP:20260421T182751
CREATED:20241204T205453Z
LAST-MODIFIED:20241204T205453Z
UID:10000167-1733583600-1733598000@www.kendallgivesback.com
SUMMARY:Kendall Central Oregon 12 Days of Caring - HOLIDAY BARKET
DESCRIPTION:Support Street Dog Hero at the Holiday Barket!\nJoin us in celebrating the Holiday Season with Street Dog Hero! We invite our community\, and our furry friends\, to the Holiday Barket event & fundraiser. Get excited for the opportunity to help dogs find a forever home\, with adoptable dogs of all ages at special Holiday pricing. This year’s Holiday Barket brings us a Santa Paws station\, hot cider bar\, raffles\, food trucks\, and local vendors selling products perfect for gifts (& yourself)! We can’t wait to see you there\, and help you find the perfect dog as we support Street Dog Hero. To learn more about Street Dog Hero\, please visit: https://www.streetdoghero.org/event/holiday-barket-with-kendall-cares-bend-or/ \n  \nDate: Saturday\, December 7th \nTime: 3:00pm – 7:00pm \nLocation: 1045 SE 3rd St Bend\, OR 97702 \n  \nThis event is free for the community\, but we kindly ask you to RSVP at: https://app.smartsheet.com/b/form/bb94693f9143410aba30d6de923faad5
URL:https://www.kendallgivesback.com/event/kendall-central-oregon-12-days-of-caring-holiday-barket/
LOCATION:Audi Bend\, 1045 SE 3rd St\, Bend\, OR\, 97702\, United States
CATEGORIES:Home,Oregon – Bend
ATTACH;FMTTYPE=image/jpeg:https://assets.kendallgivesback.com/wp-content/uploads/2024/12/Holiday-Barket.jpg
END:VEVENT
BEGIN:VEVENT
DTSTART;TZID=America/Los_Angeles:20241207T163000
DTEND;TZID=America/Los_Angeles:20241207T210000
DTSTAMP:20260421T182751
CREATED:20241204T210702Z
LAST-MODIFIED:20241204T210702Z
UID:10000168-1733589000-1733605200@www.kendallgivesback.com
SUMMARY:Kendall Central Oregon 12 Days of Caring - ST. CHARLES HOSPICE AUCTION
DESCRIPTION:Kendall Partners with St. Charles Foundation to Support the Annual Hospice Tree Auction!\nThe Kendall elves are working hard to collect the perfect ornaments\, tree topper\, and accessories for this year’s tree donation to the St. Charles Foundation Hospice Auction. Hospice care addresses the physical\, psychological\, social\, emotional and spiritual needs of patients and their families through a variety of services and programs. St. Charles Hospice aims to improve patients’ quality of life and respect their wishes to live their best lives even — and especially — at the end of life. \nKendall is excited to display this year’s tree with the theme of “Bigfoot’s Backcountry Adventure.” With this tree and accessories\, your Holidays will be filled with laughter\, warmth\, and unforgettable memories\, turning your living room into a magical haven of adventure. Keep the adventure going for you and your family with the ultimate camping package\, including foldable chairs\, a tool-box cooler\, sherpa blankets\, and a Ford Bronco Power Wheels. Slumberkins Bigfoot creatures\, found in the tree and around the campfire\, remind us that we shine brighter together! \nThe St. Charles Foundation Hospice Auction takes place on Saturday\, December 7th at the Crook County Fairgrounds. Guests will have the opportunity to fundraise for an incredible cause\, and go home with the perfect tree\, by bidding on their favorite displays. Unfortunately\, all tickets to the event have sold out\, but we encourage you to bid on “Bigfoot’s Backcountry Adventure\,” and promise you won’t be disappointed with your choice! \nTo learn more about St. Charles Foundation Hospice Auction\, please visit: https://foundation.stcharleshealthcare.org/hospice-auction
URL:https://www.kendallgivesback.com/event/kendall-central-oregon-12-days-of-caring-st-charles-hospice-auction/
LOCATION:Crook County Fairgrounds\, 1280 S Main St\, Prineville\, OR\, 97754\, United States
CATEGORIES:Home,Oregon – Bend
ATTACH;FMTTYPE=image/jpeg:https://assets.kendallgivesback.com/wp-content/uploads/2024/12/St.-Charles-Hospice.jpg
END:VEVENT
END:VCALENDAR