BEGIN:VCALENDAR
VERSION:2.0
PRODID:-//Kendall Cares - ECPv6.15.20//NONSGML v1.0//EN
CALSCALE:GREGORIAN
METHOD:PUBLISH
X-ORIGINAL-URL:https://www.kendallgivesback.com
X-WR-CALDESC:Events for Kendall Cares
REFRESH-INTERVAL;VALUE=DURATION:PT1H
X-Robots-Tag:noindex
X-PUBLISHED-TTL:PT1H
BEGIN:VTIMEZONE
TZID:America/Los_Angeles
BEGIN:DAYLIGHT
TZOFFSETFROM:-0800
TZOFFSETTO:-0700
TZNAME:PDT
DTSTART:20240310T100000
END:DAYLIGHT
BEGIN:STANDARD
TZOFFSETFROM:-0700
TZOFFSETTO:-0800
TZNAME:PST
DTSTART:20241103T090000
END:STANDARD
BEGIN:DAYLIGHT
TZOFFSETFROM:-0800
TZOFFSETTO:-0700
TZNAME:PDT
DTSTART:20250309T100000
END:DAYLIGHT
BEGIN:STANDARD
TZOFFSETFROM:-0700
TZOFFSETTO:-0800
TZNAME:PST
DTSTART:20251102T090000
END:STANDARD
BEGIN:DAYLIGHT
TZOFFSETFROM:-0800
TZOFFSETTO:-0700
TZNAME:PDT
DTSTART:20260308T100000
END:DAYLIGHT
BEGIN:STANDARD
TZOFFSETFROM:-0700
TZOFFSETTO:-0800
TZNAME:PST
DTSTART:20261101T090000
END:STANDARD
END:VTIMEZONE
BEGIN:VEVENT
DTSTART;TZID=America/Los_Angeles:20250624T080000
DTEND;TZID=America/Los_Angeles:20250628T170000
DTSTAMP:20260421T092731
CREATED:20250530T224520Z
LAST-MODIFIED:20250530T224520Z
UID:10000224-1750752000-1751130000@www.kendallgivesback.com
SUMMARY:Crooked River Roundup 2025 Foundation Dinner\, Rodeo\, & Horse Races
DESCRIPTION:Kendall Central Oregon to Sponsors CRR 2025 Events!\nJune marks the beginning of summer events\, including the Crooked River Roundup Foundation Dinner & Auction\, Rodeo\, and Horse Races! Kendall Central Oregon are proud supporters of this series of events that supports our Prineville Community and attracts athletes\, community members\, and sponsors alike. The events kick off with the Crooked River Roundup Foundation dinner & auction\, which is a fundraiser that supports the Western Way of Life. This foundation provides resources\, scholarships\, and opportunities for students that share a passion for farming\, ranching\, rodeo\, and animal health/wellness. The dinner is a kick-off to the rodeo weekend\, where you will see Kendall Central Oregon team members cheering on the athletes & shooting some one-of-a-kind t-shirts in the crowd! Join us for all the Crooked River Roundup events & grab those tickets before they sell out! \nCrooked River Roundup Foundation Dinner – June 24th\, 2025  \nThe Crooked River Roundup Foundation Dinner & Dance takes place on Tuesday\, June 24th at The Crook County Fairgrounds. This dinner\, dance\, and live auction raises critical funds to support vital programs and initiatives within our Central Oregon Community. By attending this event\, you are supporting the next generation of ranchers\, farmers\, and rodeo stars! To learn more or purchase a ticket\, please visit https://www.crookedriverroundupfoundation.org/ \nCrooked River Roundup Rodeo  (June 26th – 28th\, 2025) and Horse Races (July 9th – 12th\, 2025) \nThe Crooked River Roundup Rodeo and Horse Races takes place in the Cowboy Capital of Oregon\, where the western heritage and lifestyle is celebrated over two weekends. The rodeo brings over 450 rodeo contestants from across the country\, with events and excitement for all ages. Grab your tickets for each night\, and don’t forget to join us on Saturday\, June 28th for the Roundup Parade in downtown Prineville. The Horse Races\, starting on July 9th\, bring together community members and visitors to witness some of the fastest horses and best jockeys in the Northwest. Kendall Central Oregon is the proud sponsor of Wednesday\, July 9th LADIES NIGHT where all women attend for free! To learn more or purchase your tickets\, please visit https://crookedriverroundup.com/
URL:https://www.kendallgivesback.com/event/crooked-river-roundup-2025-foundation-dinner-rodeo-horse-races/
LOCATION:Crook County Fairgrounds\, 1280 S Main St\, Prineville\, OR\, 97754\, United States
CATEGORIES:Home,Oregon – Bend
ATTACH;FMTTYPE=image/jpeg:https://assets.kendallgivesback.com/wp-content/uploads/2025/05/CRR-2025.jpg
END:VEVENT
END:VCALENDAR