BEGIN:VCALENDAR
VERSION:2.0
PRODID:-//Kendall Cares - ECPv6.15.20//NONSGML v1.0//EN
CALSCALE:GREGORIAN
METHOD:PUBLISH
X-WR-CALNAME:Kendall Cares
X-ORIGINAL-URL:https://www.kendallgivesback.com
X-WR-CALDESC:Events for Kendall Cares
REFRESH-INTERVAL;VALUE=DURATION:PT1H
X-Robots-Tag:noindex
X-PUBLISHED-TTL:PT1H
BEGIN:VTIMEZONE
TZID:America/Los_Angeles
BEGIN:DAYLIGHT
TZOFFSETFROM:-0800
TZOFFSETTO:-0700
TZNAME:PDT
DTSTART:20240310T100000
END:DAYLIGHT
BEGIN:STANDARD
TZOFFSETFROM:-0700
TZOFFSETTO:-0800
TZNAME:PST
DTSTART:20241103T090000
END:STANDARD
BEGIN:DAYLIGHT
TZOFFSETFROM:-0800
TZOFFSETTO:-0700
TZNAME:PDT
DTSTART:20250309T100000
END:DAYLIGHT
BEGIN:STANDARD
TZOFFSETFROM:-0700
TZOFFSETTO:-0800
TZNAME:PST
DTSTART:20251102T090000
END:STANDARD
BEGIN:DAYLIGHT
TZOFFSETFROM:-0800
TZOFFSETTO:-0700
TZNAME:PDT
DTSTART:20260308T100000
END:DAYLIGHT
BEGIN:STANDARD
TZOFFSETFROM:-0700
TZOFFSETTO:-0800
TZNAME:PST
DTSTART:20261101T090000
END:STANDARD
END:VTIMEZONE
BEGIN:VEVENT
DTSTART;TZID=America/Los_Angeles:20250701T100000
DTEND;TZID=America/Los_Angeles:20250704T170000
DTSTAMP:20260421T080244
CREATED:20250619T163437Z
LAST-MODIFIED:20250626T174043Z
UID:10000226-1751364000-1751648400@www.kendallgivesback.com
SUMMARY:Join the Ride4Life Adventure\, July 1st - 4th\, 2025
DESCRIPTION:Join the Ride\, One Mile at a Time!\nOn July 1st – 4th\, our very own Max Orsini\, is taking off on a journey to spread awareness for kidney disease\, heart conditions\, and cancer. Ride4Life NW is a nonprofit initiative born from his personal journey of survival\, love\, and commitment to raising awareness for those impacted by the medical conditions listed above\, especially children and long-term patients. He will be accompanied by his certified support dog\, Gnocchi\, and riding “Kalinka\,” his Ural sidecar motorcycle\, while they travel across Oregon to visit hospitals\, humane societies\, community partners\, and some of our Kendall locations! The goal of Ride4LifeNW is to raise awareness\, offer emotional support\, promote organ donation\, and honor those life-threatening illnesses. \nThe Ride4Life journey begins on July 1st\, 2025 at Kendall Motorsport (1091 SE 3rd St\, Bend\, OR\, 97702) at 10:00am. Max & the Ride4Life team would like to invite our community to join the first part of the ride in the Central Oregon area\, before he makes his way to Eugene. We will have coffee and snacks\, as Max shares the passion behind is mission. Get your motorcycle ready to rock\, as we bring together our Kendall and Central Oregon community for a ride to save lives. \nFor more information\, please visit: Ride4LifeNW.com
URL:https://www.kendallgivesback.com/event/join-the-ride4life-adventure-july-1st-4th-2025/
LOCATION:Kendall Motorsport\, 1091 SE 3rd St\, Bend\, OR\, 97702\, United States
CATEGORIES:Home,Oregon – Bend
ATTACH;FMTTYPE=image/jpeg:https://assets.kendallgivesback.com/wp-content/uploads/2025/06/Ride4lifeBanner-1.jpg
ORGANIZER;CN="Ride4LifeNW":MAILTO:RIDE4LIFENW@GMAIL.COM
END:VEVENT
BEGIN:VEVENT
DTSTART;TZID=America/Los_Angeles:20250704T100000
DTEND;TZID=America/Los_Angeles:20250704T120000
DTSTAMP:20260421T080244
CREATED:20250618T221406Z
LAST-MODIFIED:20250618T221406Z
UID:10000227-1751623200-1751630400@www.kendallgivesback.com
SUMMARY:Celebrate the 4th in Central Oregon at the Redmond 4th of July Parade!
DESCRIPTION:Redmond 4th of July Parade!\nKendall Central Oregon! We are gearing up for an awesome 4th of July Parade\, in partnership with Deschutes County Fair & Rodeo. Join us on the Kendall float\, where we will have plenty of t-shirts\, swag\, and giveaways for you AND the crowd! We will be brining out our flatbed truck\, decorated to celebrate the Holiday! \nIf you are planning on joining\, stay tuned for our time & meeting spot or contact @megancornett@kendallauto.com! \nCelebrate Together at Redmond’s 4th of July Parade \nDate & Time: Friday\, July 4\, 2025 | 10:00 AM – 12:00 PMLocation: Downtown Redmond \nIt’s a celebration of community\, connection\, and the spirit of independence that unites us all. \nBring your friends\, family\, and neighbors\, and enjoy a morning filled with local pride\, vibrant floats\, and the joy of gathering in the heart of our town. Everyone is welcome — whether you’re wearing red\, white\, blue\, or just a smile.
URL:https://www.kendallgivesback.com/event/celebrate-the-4th-in-central-oregon-at-the-redmond-4th-of-july-parade/
LOCATION:Downtown Redmond\, 446 SW 7th St\, Redmond\, OR\, 97756\, United States
CATEGORIES:Home,Oregon – Bend
ATTACH;FMTTYPE=image/jpeg:https://assets.kendallgivesback.com/wp-content/uploads/2025/06/4th-of-July.jpg
END:VEVENT
BEGIN:VEVENT
DTSTART;TZID=America/Los_Angeles:20250726T090000
DTEND;TZID=America/Los_Angeles:20250726T110000
DTSTAMP:20260421T080244
CREATED:20250714T185519Z
LAST-MODIFIED:20250714T185519Z
UID:10000243-1753520400-1753527600@www.kendallgivesback.com
SUMMARY:Join us for Cars & Coffee on July 26th at Kendall Motorsport!
DESCRIPTION:All Cars Welcome – Cars & Coffee!\nJoin us on Saturday\, July 26th from 9:00am – 11:00am for a morning celebrating cars\, with coffee! Get ready for a special reveal of our 2025 Classic Restoration Challenge (we promise you don’t want to miss this). All cars are welcome to this family-friendly morning\, with coffee\, shave ice\, and some small bites. Head over to Kendall Motorsport (1091 SE 3rd St\, Bend\, OR\, 97702) and find any available spot to show off your classic vehicle\, muscle car\, project vehicle\, and beyond.
URL:https://www.kendallgivesback.com/event/join-us-for-cars-coffee-on-july-26th-at-kendall-motorsport/
LOCATION:Kendall Motorsport\, 1091 SE 3rd St\, Bend\, OR\, 97702\, United States
CATEGORIES:Home,Oregon – Bend
ATTACH;FMTTYPE=image/jpeg:https://assets.kendallgivesback.com/wp-content/uploads/2025/07/Cars-Coffee-July-2025-Web-Banner-1.jpg
END:VEVENT
BEGIN:VEVENT
DTSTART;TZID=America/Los_Angeles:20250730T080000
DTEND;TZID=America/Los_Angeles:20250803T170000
DTSTAMP:20260421T080244
CREATED:20250609T151508Z
LAST-MODIFIED:20250630T191155Z
UID:10000225-1753862400-1754240400@www.kendallgivesback.com
SUMMARY:Deschutes County Fair & Rodeo 2025 - Kendall FREE Summer Concert Series!
DESCRIPTION:Get Ready for the 2025 Deschutes County Fair & Rodeo!\nThe wait is finally over\, and we officially have our calendars marked with five nights of unforgettable performances at the 2025 Deschutes County Fair & Rodeo! Kendall is a proud Title Sponsor of the FREE Summer Concert Series\, set for July 30th – August 3rd at the Deschutes County Fairgrounds. We are thrilled for another unforgettable line-up\, starting with Brother’s Osborne on Wednesday\, July 30th. The Deschutes County Fair & Rodeo team books artists with diverse backgrounds and music genres\, offering concerts for everyone in the community! All concerts in this series are free with fair admission\, but the best seats in the house are in the VIP section! Stay tuned for more ticket giveaways\, or grab your tickets now at DeschutesFair.com. We have a feeling a few of these may sell out! \n2025 Kendall Toyota of Bend FREE Summer Concert Series Lineup!\nWEDNESDAY\, JULY 30th – BROTHERS OSBORNE: John & TJ Osborne are a Country Duo known for their progressive yet classic style of country music. They took home their first GRAMMY in 2022\, winning Best Country Duo/Group for their hit\, “Younger Me.” Join us on Wednesday\, July 3oth to see the reigning CMA and ACM Duo of the Year winners\, Brothers Osborne! \nTHURSDAY\, JULY 31st – AWOLNATION: AWOLNATION is known for their electrifying performances and genre-defying sound\, such as electronic rock. Their hit\, “Sail\,” is a multi-platinum track from their debut album\, Megalithic Symphony. Join us on Thursday\, July 31st to see AWOLNATION as they push musical boundaries. \nFRIDAY\, AUGUST 1st – DIPLO PRESENTS THOMAS WESLEY: Diplo promises an unforgettable evening for all ages\, blending elements of EDM\, hip-hop\, and pop. Born Thomas Wesley Pentz\, Diplo has created a unique space in the music industry as a DJ\, producer\, and songwriter. Join us on Friday\, August 1st for Diplo Presents Thomas Wesley! \nSATURDAY\, AUGUST 2nd – TYGA: Get ready for an evening of high-energy hip-hop as Tyga hits the stage on Saturday\, August 2nd. Tyga is known for his chart-topping hits\, including\, “Taste\,” and “Ayo.” Attendees can expect a family-friendly atmosphere at the concert\, with Tyga’s promise to deliver a performance that showcases his versatility as an artist. \nSUNDAY\, AUGUST 3rd – LA ORIGINAL BANDA LIMON: With a rich history spanning 6 decades\, this legendary ensemble promises a night filled with the vibrant sounds of traditional Mexican Banda music\, making it the perfect family-friendly event to conclude the fair. Join us on Sunday\, August 3rd for an unforgettable evening of music and celebration with La Original Banda Limon!
URL:https://www.kendallgivesback.com/event/deschutes-county-fair-rodeo-2025-kendall-free-summer-concert-series/
LOCATION:Deschutes County Fair & Expo Center\, 3800 SW Airport Way\, Redmond\, OR\, 97756\, United States
CATEGORIES:Home,Oregon – Bend
ATTACH;FMTTYPE=image/jpeg:https://assets.kendallgivesback.com/wp-content/uploads/2025/06/Dechutes-County-Fair-Rodeo.jpg
END:VEVENT
END:VCALENDAR