BEGIN:VCALENDAR
VERSION:2.0
PRODID:-//Kendall Cares - ECPv6.15.20//NONSGML v1.0//EN
CALSCALE:GREGORIAN
METHOD:PUBLISH
X-WR-CALNAME:Kendall Cares
X-ORIGINAL-URL:https://www.kendallgivesback.com
X-WR-CALDESC:Events for Kendall Cares
REFRESH-INTERVAL;VALUE=DURATION:PT1H
X-Robots-Tag:noindex
X-PUBLISHED-TTL:PT1H
BEGIN:VTIMEZONE
TZID:America/Los_Angeles
BEGIN:DAYLIGHT
TZOFFSETFROM:-0800
TZOFFSETTO:-0700
TZNAME:PDT
DTSTART:20240310T100000
END:DAYLIGHT
BEGIN:STANDARD
TZOFFSETFROM:-0700
TZOFFSETTO:-0800
TZNAME:PST
DTSTART:20241103T090000
END:STANDARD
BEGIN:DAYLIGHT
TZOFFSETFROM:-0800
TZOFFSETTO:-0700
TZNAME:PDT
DTSTART:20250309T100000
END:DAYLIGHT
BEGIN:STANDARD
TZOFFSETFROM:-0700
TZOFFSETTO:-0800
TZNAME:PST
DTSTART:20251102T090000
END:STANDARD
BEGIN:DAYLIGHT
TZOFFSETFROM:-0800
TZOFFSETTO:-0700
TZNAME:PDT
DTSTART:20260308T100000
END:DAYLIGHT
BEGIN:STANDARD
TZOFFSETFROM:-0700
TZOFFSETTO:-0800
TZNAME:PST
DTSTART:20261101T090000
END:STANDARD
END:VTIMEZONE
BEGIN:VEVENT
DTSTART;TZID=America/Los_Angeles:20250730T080000
DTEND;TZID=America/Los_Angeles:20250803T170000
DTSTAMP:20260421T064214
CREATED:20250609T151508Z
LAST-MODIFIED:20250630T191155Z
UID:10000225-1753862400-1754240400@www.kendallgivesback.com
SUMMARY:Deschutes County Fair & Rodeo 2025 - Kendall FREE Summer Concert Series!
DESCRIPTION:Get Ready for the 2025 Deschutes County Fair & Rodeo!\nThe wait is finally over\, and we officially have our calendars marked with five nights of unforgettable performances at the 2025 Deschutes County Fair & Rodeo! Kendall is a proud Title Sponsor of the FREE Summer Concert Series\, set for July 30th – August 3rd at the Deschutes County Fairgrounds. We are thrilled for another unforgettable line-up\, starting with Brother’s Osborne on Wednesday\, July 30th. The Deschutes County Fair & Rodeo team books artists with diverse backgrounds and music genres\, offering concerts for everyone in the community! All concerts in this series are free with fair admission\, but the best seats in the house are in the VIP section! Stay tuned for more ticket giveaways\, or grab your tickets now at DeschutesFair.com. We have a feeling a few of these may sell out! \n2025 Kendall Toyota of Bend FREE Summer Concert Series Lineup!\nWEDNESDAY\, JULY 30th – BROTHERS OSBORNE: John & TJ Osborne are a Country Duo known for their progressive yet classic style of country music. They took home their first GRAMMY in 2022\, winning Best Country Duo/Group for their hit\, “Younger Me.” Join us on Wednesday\, July 3oth to see the reigning CMA and ACM Duo of the Year winners\, Brothers Osborne! \nTHURSDAY\, JULY 31st – AWOLNATION: AWOLNATION is known for their electrifying performances and genre-defying sound\, such as electronic rock. Their hit\, “Sail\,” is a multi-platinum track from their debut album\, Megalithic Symphony. Join us on Thursday\, July 31st to see AWOLNATION as they push musical boundaries. \nFRIDAY\, AUGUST 1st – DIPLO PRESENTS THOMAS WESLEY: Diplo promises an unforgettable evening for all ages\, blending elements of EDM\, hip-hop\, and pop. Born Thomas Wesley Pentz\, Diplo has created a unique space in the music industry as a DJ\, producer\, and songwriter. Join us on Friday\, August 1st for Diplo Presents Thomas Wesley! \nSATURDAY\, AUGUST 2nd – TYGA: Get ready for an evening of high-energy hip-hop as Tyga hits the stage on Saturday\, August 2nd. Tyga is known for his chart-topping hits\, including\, “Taste\,” and “Ayo.” Attendees can expect a family-friendly atmosphere at the concert\, with Tyga’s promise to deliver a performance that showcases his versatility as an artist. \nSUNDAY\, AUGUST 3rd – LA ORIGINAL BANDA LIMON: With a rich history spanning 6 decades\, this legendary ensemble promises a night filled with the vibrant sounds of traditional Mexican Banda music\, making it the perfect family-friendly event to conclude the fair. Join us on Sunday\, August 3rd for an unforgettable evening of music and celebration with La Original Banda Limon!
URL:https://www.kendallgivesback.com/event/deschutes-county-fair-rodeo-2025-kendall-free-summer-concert-series/
LOCATION:Deschutes County Fair & Expo Center\, 3800 SW Airport Way\, Redmond\, OR\, 97756\, United States
CATEGORIES:Home,Oregon – Bend
ATTACH;FMTTYPE=image/jpeg:https://assets.kendallgivesback.com/wp-content/uploads/2025/06/Dechutes-County-Fair-Rodeo.jpg
END:VEVENT
BEGIN:VEVENT
DTSTART;TZID=America/Los_Angeles:20250807T191500
DTEND;TZID=America/Los_Angeles:20250807T220000
DTSTAMP:20260421T064214
CREATED:20250712T192700Z
LAST-MODIFIED:20250712T193838Z
UID:10000238-1754594100-1754604000@www.kendallgivesback.com
SUMMARY:LET'S WATCH MOVIE SERIES Powered by Kendall Central Oregon - Cars!
DESCRIPTION:Kendall Central Oregon is thrilled to announce that we are partnering with Citizens4Community\, a local organization based out of Sisters that fosters community by encouraging civility\, collaboration\, and civic engagement. Thanks to Citizens for Community\, our dream of developing a movie series for families of all ages is coming to life. We are so excited to be a sponsor of these memorable summer nights\, supporting incredible beneficiaries and creating access to experiences that will last a lifetime. The “Let’s Watch” movie series is free for all attendees and provides opportunities to raise funds for a variety of other local nonprofits. Kicking off movie #1 at…\n\nAugust 7th\, 2025 – “Cars” @ Village Green Park. C4C is kicking things off with a family favorite: Pixar’s Cars. Come at 7:15pm for snacks\, lawn games\, and a showcase of emergency vehicles and classic cars. Bring low-back chairs or a blanket – whatever keeps you cozy! All donations benefit Citizens4Community\, Snacks for a Cause benefit Sisters-Camp Sherman Fire District’s volunteer Fire Corps.
URL:https://www.kendallgivesback.com/event/lets-watch-movie-series-powered-by-kendall-central-oregon-cars/
LOCATION:Sisters Village Green Park\, 305 S Fir St\, Sisters\, OR\, 97759\, United States
CATEGORIES:Home,Oregon – Bend
ATTACH;FMTTYPE=image/png:https://assets.kendallgivesback.com/wp-content/uploads/2025/07/MovieSeries_CARS.png
END:VEVENT
BEGIN:VEVENT
DTSTART;TZID=America/Los_Angeles:20250822T190000
DTEND;TZID=America/Los_Angeles:20250822T210000
DTSTAMP:20260421T064214
CREATED:20250712T193115Z
LAST-MODIFIED:20250712T193748Z
UID:10000239-1755889200-1755896400@www.kendallgivesback.com
SUMMARY:LET'S WATCH MOVIE SERIES Powered by Kendall Central Oregon - Encanto!
DESCRIPTION:Kendall Central Oregon is thrilled to announce that we are partnering with Citizens4Community\, a local organization based out of Sisters that fosters community by encouraging civility\, collaboration\, and civic engagement. Thanks to Citizens for Community\, our dream of developing a movie series for families of all ages is coming to life. We are so excited to be a sponsor of these memorable summer nights\, supporting incredible beneficiaries and creating access to experiences that will last a lifetime. The “Let’s Watch” movie series is free for all attendees and provides opportunities to raise funds for a variety of other local nonprofits. Join us for movie #2!!\n\nAugust 22nd\, 2025 – “Encanto” @ the Sisters Art Works Building. The second movie in the series is going to be a musical\, Encanto! Come at 7:00pm for snacks\, lawn games and get ready for showtime at 8:00pm. Bring low-back chairs or a blanket – whatever keeps you cozy! All donations benefit Citizens4Community\, Snacks for a Cause benefit SFF.
URL:https://www.kendallgivesback.com/event/lets-watch-movie-series-powered-by-kendall-central-oregon-encanto/
LOCATION:Sisters Art Works\, 204 W Adams Ave #101\, Sisters\, OR\, 97759\, United States
CATEGORIES:Home,Oregon – Bend
ATTACH;FMTTYPE=image/png:https://assets.kendallgivesback.com/wp-content/uploads/2025/07/MovieSeries_ENCANTO.png
END:VEVENT
END:VCALENDAR