BEGIN:VCALENDAR
VERSION:2.0
PRODID:-//Kendall Cares - ECPv6.15.20//NONSGML v1.0//EN
CALSCALE:GREGORIAN
METHOD:PUBLISH
X-ORIGINAL-URL:https://www.kendallgivesback.com
X-WR-CALDESC:Events for Kendall Cares
REFRESH-INTERVAL;VALUE=DURATION:PT1H
X-Robots-Tag:noindex
X-PUBLISHED-TTL:PT1H
BEGIN:VTIMEZONE
TZID:America/Los_Angeles
BEGIN:DAYLIGHT
TZOFFSETFROM:-0800
TZOFFSETTO:-0700
TZNAME:PDT
DTSTART:20240310T100000
END:DAYLIGHT
BEGIN:STANDARD
TZOFFSETFROM:-0700
TZOFFSETTO:-0800
TZNAME:PST
DTSTART:20241103T090000
END:STANDARD
BEGIN:DAYLIGHT
TZOFFSETFROM:-0800
TZOFFSETTO:-0700
TZNAME:PDT
DTSTART:20250309T100000
END:DAYLIGHT
BEGIN:STANDARD
TZOFFSETFROM:-0700
TZOFFSETTO:-0800
TZNAME:PST
DTSTART:20251102T090000
END:STANDARD
BEGIN:DAYLIGHT
TZOFFSETFROM:-0800
TZOFFSETTO:-0700
TZNAME:PDT
DTSTART:20260308T100000
END:DAYLIGHT
BEGIN:STANDARD
TZOFFSETFROM:-0700
TZOFFSETTO:-0800
TZNAME:PST
DTSTART:20261101T090000
END:STANDARD
END:VTIMEZONE
BEGIN:VEVENT
DTSTART;TZID=America/Los_Angeles:20250906T073000
DTEND;TZID=America/Los_Angeles:20250906T130000
DTSTAMP:20260421T092247
CREATED:20250807T231127Z
LAST-MODIFIED:20250807T231127Z
UID:10000249-1757143800-1757163600@www.kendallgivesback.com
SUMMARY:Kendall Cares Classic - Fore the Cure!
DESCRIPTION:Putt with a purpose at the 1st Annual Kendall Cares Classic\, benefitting American Cancer Society. All proceeds go to Josh Brown\, Kendall Cares 2025 Men Wear Pink Representative. We invite Kendall staff & families\, as well as community members\, to participate in a golf scramble on Saturday\, September 6th at River’s Edge Golf Course (400 NW Pro Shop Dr\, Bend\, OR\, 97703). The shotgun start takes place at 7:30am\, as we will be finishing up the golf tournament prior to the start of the 4th Annual Kendall Auto Soapbox Derby! \nThere are only spots for 18 teams of four! Grab your team now and email daltonsmith@kendallauto.com for more details and to register.  \n\nIndividual: $110\nTeams (4 participants): $440\n\nTo learn more about Josh Brown and Men Wear Pink\, please visit his fundraising page at http://main.acsevents.org/goto/Josh2025 \n 
URL:https://www.kendallgivesback.com/event/kendall-cares-classic-fore-the-cure/
LOCATION:River’s Edge Golf Course\, 3364 NW Fairway Heights Dr\, Bend\, OR\, 97703\, United States
CATEGORIES:Home,Oregon – Bend
ATTACH;FMTTYPE=image/jpeg:https://assets.kendallgivesback.com/wp-content/uploads/2025/08/KCC-Golf-Tourney-Banner.jpg
END:VEVENT
END:VCALENDAR